Workbook
Name _Ref138826553: Aus!#REF!
Name _Toc403998483: 'Explanatory notes'!$B$22
Name _Toc403998484: 'Explanatory notes'!$B$18
Name _Toc403998485: 'Explanatory notes'!$B$8
Name _Toc403998486: 'Explanatory notes'!$B$15
Name _Toc403998487: 'Explanatory notes'!$B$11
Name _Toc403998488: 'Explanatory notes'!$B$26
Name Index: #REF!
Name Index: #REF!
Name Start10: #REF!
Name Start10: #REF!
Name Start11: #REF!
Name Start11: #REF!
Name Start12: #REF!
Name Start12: #REF!
Name Start13: #REF!
Name Start13: #REF!
Name Start14: #REF!
Name Start14: #REF!
Name Start15: #REF!
Name Start15: #REF!
Name Start16: #REF!
Name Start16: #REF!
Name Start17: #REF!
Name Start17: #REF!
Name Start18: #REF!
Name Start18: #REF!
Name Start19: #REF!
Name Start19: #REF!
Name Start2: #REF!
Name Start2: #REF!
Name Start20: #REF!
Name Start20: #REF!
Name Start4: #REF!
Name Start4: #REF!
Name Start7: #REF!
Name Start7: #REF!
Name Start8: #REF!
Name Start8: #REF!
Name Start9: #REF!
Name Start9: #REF!

Sheet Index
B1: Completion and attrition rates for apprentices and trainees 2023: data tables - to date
B2: Index
B5: Overview
C7: AUS | D7: NSW | E7: Vic | F7: Qld | G7: SA | H7: WA | I7: Tas | J7: NT | K7: ACT
B8: Individual completion rates to date, based on a recommencement adjustment factor, and contract completion rates to date for trade and non-trade occupations commencing in 2017 to 2019 | C8: Table 1 | D8: Table 1 | E8: Table 1 | F8: Table 1 | G8: Table 1 | H8: Table 1 | I8: Table 1 | J8: Table 1 | K8: Table 1
B9: Contract completion and attrition rates to date in trade occupations, for contracts commencing in 2016 to 2022 | C9: Table 2 | D9: Table 2 | E9: Table 2 | F9: Table 2 | G9: Table 2 | H9: Table 2 | I9: Table 2 | J9: Table 2 | K9: Table 2
B10: Contract completion and attrition rates to date in non-trade occupations, for contracts commencing in 2016 to 2022 | C10: Table 3 | D10: Table 3 | E10: Table 3 | F10: Table 3 | G10: Table 3 | H10: Table 3 | I10: Table 3 | J10: Table 3 | K10: Table 3
B11: Projected contract completion and attrition rates by selected occupation, for contracts commencing in December quarter 2021 to 2023 | C11: Table 4 | D11: na | E11: na | F11: na | G11: na | H11: na | I11: na | J11: na | K11: na
B12: Contract attrition rates by occupation and time of cancellation/withdrawal, for contracts commencing in 2018 | C12: Table 5 | D12: Table 5 | E12: Table 5 | F12: Table 5 | G12: Table 5 | H12: Table 5 | I12: Table 5 | J12: Table 5 | K12: Table 5
B13: Projected contract attrition rates by selected occupation and time of cancellation/withdrawal, for contracts commencing in December quarter 2023 | C13: Table 6 | D13: na | E13: na | F13: na | G13: na | H13: na | I13: na | J13: na | K13: na
B14: Contract attrition rates by occupation, within 12 months of commencement, for contracts commencing in 2016 to 2020 | C14: Table 7 | D14: Table 7 | E14: Table 7 | F14: Table 7 | G14: Table 7 | H14: Table 7 | I14: Table 7 | J14: Table 7 | K14: Table 7
B15: Projected contract attrition rates by selected occupation, within 12 months of commencement, for contracts commencing in December quarter 2021 to 2023 | C15: Table 8 | D15: na | E15: na | F15: na | G15: na | H15: na | I15: na | J15: na | K15: na
B17: Explanatory notes
B19: Copyright

Sheet Overview
B1: Completion and attrition rates for apprentices and trainees 2023: data tables - to date
B2: Overview
C3: Back to index
B4: INTRODUCTION
B5: ATTRIBUTING THE SOURCE OF DATA
B6: FOR MORE INFORMATION
B7: CONTACT DETAILS
B9: INTRODUCTION
B10: These data tables present contract and individual completion rates for apprentices and trainees, to date, or based on the latest available data, up to 2023.
B11: Apprentice and trainee completion and attrition rates are calculated by tracking the outcomes of individuals and contracts of training over time. Although most apprentices and trainees in trade occupations complete within 4 years and those in non-trade occupations within 3 years, completion rates are continuously updated as new data becomes available each year. To reflect this, NCVER publishes both completion rates four years after commencement and up-to-date completion rates. - Completion rates 4 years after commencement: The most recent cohort with four years of available data is the 2019 commencing cohort. To allow for consistent comparisons with earlier cohorts, completion rates are measured at the same point in time, i.e. four years after commencement. - Completion rates to date: To provide the most current completion rates, rates incorporate the latest available data, up to 2023.
B12: Caution should be taken when comparing cohorts using to-date rates, as earlier cohorts will have had more time to complete than those that commenced more recently.
B13: In this product, we report both individual and contract completion rates. - Contract completion rates are calculated by tracking the outcomes of contracts of training over time - Individual completion rates are are derived from contract completion rates, adjusted by the average number of recommencements by occupation. This adjustment accounts for individuals who may not complete their apprenticeship with one employer but go on to complete it with another.
B14: For contracts commencing more recently, we estimate the proportion of contracts commenced in a given year that will eventually be completed by applying a ‘life tables’ methodology. Projected rates assume that the patterns of contract completion and attrition observed in the data for past quarters approximate the patterns that will occur for the most recent quarters. If the patterns of completion and attrition change slowly over time, then this approximation will be valid. Conversely, if the patterns of completion and attrition for the most recent quarters turn out to be noticeably different from those seen in the past, then the reliability of the projected rates will decrease as the discrepancy between the patterns of completions and attritions increases. For example, projected rates will likely be impacted by the effects of the COVID-19 pandemic and governments’ economic responses. Further details on this methodology may be found at <https://www.ncver.edu.au/publications/publications/all-publications/estimating-apprentice-and-trainee-completion-and-attrition-rates-using-a-life-tables-approach>.
C15: << BACK TO TOP OF PAGE>>
B16: ATTRIBUTING THE SOURCE OF DATA
B17: Any person or organisation with an interest in vocational education and training may request information from NCVER and use this information publicly, provided that the source is properly acknowledged. The source should be acknowledged as NCVER 2024, Australian vocational education and training statistics: completion and attrition rates for apprentices and trainees 2023, NCVER, Adelaide.
C18: << BACK TO TOP OF PAGE>>
B19: MORE INFORMATION
B20: About NCVER | C20: https://www.ncver.edu.au/
B22: NCVER's statistics | C22: https://www.ncver.edu.au/support/support/all-support/vet-statistics-explained
B24: Apprentice and Trainee Collection | C24: https://www.ncver.edu.au/research-and-statistics/collections/apprentices-and-trainees-collection
B26: Classifications | C26: https://www.ncver.edu.au/rto-hub/avetmiss-systems-files
C27: << BACK TO TOP OF PAGE>>
B28: CONTACT DETAILS
B29: Requests for more detailed statistical information or futher information about the National Apprentice and Trainee Collection can be made to:
C30: vet_req@ncver.edu.au
B32: Tailor made tables are available on requests, although a charge will be generally made by the NCVER for more complex requests for information. See the fees and charges policy:
C33: https://www.ncver.edu.au/support/topics/using-ncver-data/accessing-vet-data
C34: << BACK TO TOP OF PAGE>>

Sheet Aus
B1: Completion and attrition rates for apprentices and trainees 2023: data tables - to date
B2: Australia
N3: Back to Index
B4: =Index!$C8 & " Aus : " & Index!B8 -> Table 1 Aus : Individual completion rates to date, based on a recommencement adjustment factor, and contract completion rates to date for trade and non-trade occupations commencing in 2017 to 2019
B6: Occupation (ANZSCO) group | C6: 2017 | F6: 2018 | I6: 2019
C7: Average annual adjustment factor | D7: Contract completion rate | E7: Individual completion rate | F7: Average annual adjustment factor | G7: Contract completion rate | H7: Individual completion rate | I7: Average annual adjustment factor | J7: Contract completion rate | K7: Individual completion rate
C8: Ratio | D8: % | E8: % | F8: Ratio | G8: % | H8: % | I8: Ratio | J8: % | K8: %
B9: Managers | C9: 1.02 | D9: 49.2 | E9: 50.3 | F9: 1.02 | G9: 54 | H9: 55 | I9: 1.02 | J9: 63.7 | K9: 64.9
B10: 11 Chief executives, general managers and legislators | C10: 1.01 | D10: 43 | E10: 43.5 | F10: 1.01 | G10: 47.6 | H10: 48.2 | I10: 1.01 | J10: 49.7 | K10: 50.3
B11: 12 Farmers and farm managers | C11: 1.13 | D11: 46.5 | E11: 52.4 | F11: 1.13 | G11: 53.5 | H11: 60.5 | I11: 1.11 | J11: 60.6 | K11: 67.1
B12: 13 Specialist managers | C12: 1.03 | D12: 56.6 | E12: 58.1 | F12: 1.02 | G12: 54.5 | H12: 55.5 | I12: 1.02 | J12: 59.1 | K12: 60.1
B13: 14 Hospitality, retail and service managers | C13: 1.02 | D13: 53.9 | E13: 54.7 | F13: 1.01 | G13: 63.7 | H13: 64.4 | I13: 1.01 | J13: 76.1 | K13: 76.9
B14: Professionals | C14: 1.06 | D14: 57.2 | E14: 60.3 | F14: 1.04 | G14: 58.3 | H14: 60.4 | I14: 1.03 | J14: 48.3 | K14: 50
B15: 21 Arts and media professionals | C15: 1.04 | D15: 0 | E15: 0 | F15: 1.03 | G15: 33.3 | H15: 34.3 | I15: 1.03 | J15: 25 | K15: 25.7
B16: 22 Business, human resource and marketing professionals | C16: 1.02 | D16: 67.1 | E16: 68.2 | F16: 1.01 | G16: 40.5 | H16: 41.1 | I16: 1.02 | J16: 34.1 | K16: 34.8
B17: 23 Design, engineering, science and transport professionals | C17: 1.02 | D17: 64.9 | E17: 66.2 | F17: 1.02 | G17: 69.2 | H17: 70.7 | I17: 1.02 | J17: 57.8 | K17: 59
B18: 24 Education professionals | C18: 1 | D18: 58.3 | E18: 58.6 | F18: 1 | G18: 69.2 | H18: 69.5 | I18: 1 | J18: 62.5 | K18: 62.8
B19: 25 Health professionals | C19: - | D19: - | E19: - | F19: - | G19: - | H19: - | I19: - | J19: - | K19: -
B20: 26 ICT professionals | C20: 1.4 | D20: 64.7 | E20: 90.7 | F20: 1.41 | G20: 59.6 | H20: 84.1 | I20: 1.38 | J20: 62.7 | K20: 86.2
B21: 27 Legal, social and welfare professionals | C21: 1.03 | D21: 34.9 | E21: 35.7 | F21: 1.02 | G21: 49.4 | H21: 50.6 | I21: 1.03 | J21: 32.8 | K21: 33.7
B22: Technicians and trades workers | C22: 1.29 | D22: 43.7 | E22: 56.2 | F22: 1.27 | G22: 43.4 | H22: 55 | I22: 1.26 | J22: 42.9 | K22: 54.1
B23: 31 Engineering, ICT and science technicians | C23: 1.03 | D23: 60.1 | E23: 62 | F23: 1.03 | G23: 58.4 | H23: 60.2 | I23: 1.04 | J23: 53.4 | K23: 55.3
B24: 32 Automotive and engineering trades workers | C24: 1.2 | D24: 51.1 | E24: 61.5 | F24: 1.2 | G24: 49.9 | H24: 59.8 | I24: 1.2 | J24: 48 | K24: 57.6
B25: 33 Construction trades workers | C25: 1.4 | D25: 38.6 | E25: 54.1 | F25: 1.37 | G25: 38.9 | H25: 53.5 | I25: 1.36 | J25: 39.7 | K25: 53.9
B26: 34 Electrotechnology and telecommunications trades workers | C26: 1.32 | D26: 49.6 | E26: 65.3 | F26: 1.3 | G26: 48 | H26: 62.3 | I26: 1.29 | J26: 47.7 | K26: 61.8
B27: 35 Food trades workers | C27: 1.32 | D27: 33.6 | E27: 44.4 | F27: 1.28 | G27: 33.9 | H27: 43.4 | I27: 1.26 | J27: 33.1 | K27: 41.5
B28: 36 Skilled animal and horticultural workers | C28: 1.13 | D28: 44.2 | E28: 49.7 | F28: 1.13 | G28: 43.1 | H28: 48.6 | I28: 1.13 | J28: 42.2 | K28: 47.5
B29: 39 Other technicians and trades workers | C29: 1.28 | D29: 39.6 | E29: 50.9 | F29: 1.28 | G29: 38.7 | H29: 49.5 | I29: 1.28 | J29: 36.5 | K29: 46.5
B30: 391 Hairdressers | C30: 1.45 | D30: 32.9 | E30: 47.7 | F30: 1.46 | G30: 31.1 | H30: 45.3 | I30: 1.45 | J30: 31.2 | K30: 45.2
B31: 392 Printing trades workers | C31: 1.05 | D31: 63.2 | E31: 66.2 | F31: 1.04 | G31: 49.2 | H31: 51.4 | I31: 1.05 | J31: 51.4 | K31: 54
... B46: 55 Numerical clerks | C46: 1.02 | D46: 59.6 | E46: 60.8 | F46: 1.02 | G46: 61.2 | H46: 62.4 | I46: 1.02 | J46: 57 | K46: 58.3
B47: 56 Clerical and office support workers | C47: - | D47: - | E47: - | F47: - | G47: - | H47: - | I47: - | J47: - | K47: -
B48: 59 Other clerical and administrative workers | C48: 1.03 | D48: 47.8 | E48: 49.4 | F48: 1.03 | G48: 42.6 | H48: 43.8 | I48: 1.03 | J48: 47.3 | K48: 48.7
B49: Sales workers | C49: 1.04 | D49: 56.2 | E49: 58.4 | F49: 1.04 | G49: 59.7 | H49: 62.1 | I49: 1.04 | J49: 54.9 | K49: 57.2
B50: 61 Sales representatives and agents | C50: 1.07 | D50: 48 | E50: 51.2 | F50: 1.07 | G50: 50.5 | H50: 54.1 | I50: 1.09 | J50: 49.8 | K50: 54
B51: 62 Sales assistants and salespersons | C51: 1.03 | D51: 56.9 | E51: 58.8 | F51: 1.03 | G51: 61 | H51: 62.8 | I51: 1.03 | J51: 55.5 | K51: 57.1
B52: 63 Sales support workers | C52: 1 | D52: 66.7 | E52: 66.7 | F52: 1 | G52: 91.7 | H52: 91.7 | I52: 1 | J52: 68.8 | K52: 68.8
B53: Machinery operators and drivers | C53: 1.06 | D53: 51.8 | E53: 54.7 | F53: 1.06 | G53: 52.7 | H53: 55.7 | I53: 1.05 | J53: 49.7 | K53: 52
B54: 71 Machine and stationary plant operators | C54: 1.04 | D54: 58.6 | E54: 60.7 | F54: 1.04 | G54: 58.8 | H54: 60.9 | I54: 1.03 | J54: 59 | K54: 60.8
B55: 72 Mobile plant operators | C55: 1.04 | D55: 56.7 | E55: 59 | F55: 1.04 | G55: 55.7 | H55: 57.9 | I55: 1.04 | J55: 54.4 | K55: 56.7
...

Sheet NSW
B1: Completion and attrition rates for apprentices and trainees 2023: data tables - to date
B2: New South Wales
N3: Back to Index
B4: =Index!$C8 & " NSW : " & Index!B8 -> Table 1 NSW : Individual completion rates to date, based on a recommencement adjustment factor, and contract completion rates to date for trade and non-trade occupations commencing in 2017 to 2019
B6: Occupation (ANZSCO) group | C6: 2017 | F6: 2018 | I6: 2019
C7: Average annual adjustment factor | D7: Contract completion rate | E7: Individual completion rate | F7: Average annual adjustment factor | G7: Contract completion rate | H7: Individual completion rate | I7: Average annual adjustment factor | J7: Contract completion rate | K7: Individual completion rate
C8: Ratio | D8: % | E8: % | F8: Ratio | G8: % | H8: % | I8: Ratio | J8: % | K8: %
B9: Managers | C9: 1.07 | D9: 58 | E9: 62 | F9: 1.06 | G9: 64 | H9: 67.8 | I9: 1.06 | J9: 55.4 | K9: 58.6
B10: 11 Chief executives, general managers and legislators | C10: 1.03 | D10: 43.4 | E10: 44.9 | F10: 1.03 | G10: 63.2 | H10: 64.9 | I10: 1.03 | J10: 30.5 | K10: 31.4
B11: 12 Farmers and farm managers | C11: 1.44 | D11: 59.7 | E11: 86.3 | F11: 1.48 | G11: 66.2 | H11: 98 | I11: 1.38 | J11: 76.6 | K11: 105.9
B12: 13 Specialist managers | C12: 1.04 | D12: 64.3 | E12: 67.1 | F12: 1.04 | G12: 65.3 | H12: 67.6 | I12: 1.04 | J12: 64.2 | K12: 66.7
B13: 14 Hospitality, retail and service managers | C13: 1.05 | D13: 60.6 | E13: 63.9 | F13: 1.04 | G13: 53.7 | H13: 55.7 | I13: 1.04 | J13: 56.4 | K13: 58.6
B14: Professionals | C14: 1.18 | D14: 60.9 | E14: 72 | F14: 1.11 | G14: 66.4 | H14: 73.8 | I14: 1.09 | J14: 59.6 | K14: 65.2
B15: 21 Arts and media professionals | C15: 1.07 | D15: 0 | E15: 0 | F15: 1.05 | G15: 33.3 | H15: 34.9 | I15: 1.04 | J15: 50 | K15: 52.2
B16: 22 Business, human resource and marketing professionals | C16: 1.03 | D16: 62.5 | E16: 64.6 | F16: 1.03 | G16: 37.5 | H16: 38.7 | I16: 1.04 | J16: 66.7 | K16: 69.5
B17: 23 Design, engineering, science and transport professionals | C17: 1.04 | D17: 74.4 | E17: 77.3 | F17: 1.04 | G17: 79.2 | H17: 82.4 | I17: 1.04 | J17: 72.7 | K17: 75.8
B18: 24 Education professionals | C18: - | D18: - | E18: - | F18: - | G18: - | H18: - | I18: - | J18: - | K18: -
B19: 25 Health professionals | C19: - | D19: - | E19: - | F19: - | G19: - | H19: - | I19: - | J19: - | K19: -
B20: 26 ICT professionals | C20: 2.63 | D20: 68.4 | E20: 180.2 | F20: 2.58 | G20: 85.5 | H20: 220.2 | I20: 2.16 | J20: 74.6 | K20: 161.4
B21: 27 Legal, social and welfare professionals | C21: 1.05 | D21: 33.3 | E21: 34.9 | F21: 1.04 | G21: 41.3 | H21: 43 | I21: 1.04 | J21: 31.4 | K21: 32.6
B22: Technicians and trades workers | C22: 1.39 | D22: 39.3 | E22: 54.7 | F22: 1.39 | G22: 39.1 | H22: 54.2 | I22: 1.38 | J22: 40.7 | K22: 56.3
B23: 31 Engineering, ICT and science technicians | C23: 1.08 | D23: 55.3 | E23: 59.8 | F23: 1.09 | G23: 54 | H23: 58.6 | I23: 1.09 | J23: 54.7 | K23: 59.8
B24: 32 Automotive and engineering trades workers | C24: 1.33 | D24: 47.7 | E24: 63.4 | F24: 1.33 | G24: 46.2 | H24: 61.4 | I24: 1.33 | J24: 46.6 | K24: 62.1
B25: 33 Construction trades workers | C25: 1.48 | D25: 35.9 | E25: 53.2 | F25: 1.48 | G25: 36.4 | H25: 54 | I25: 1.48 | J25: 39.1 | K25: 58.1
B26: 34 Electrotechnology and telecommunications trades workers | C26: 1.41 | D26: 39.1 | E26: 55.2 | F26: 1.42 | G26: 38.6 | H26: 54.8 | I26: 1.43 | J26: 41.6 | K26: 59.3
B27: 35 Food trades workers | C27: 1.43 | D27: 33.6 | E27: 48.1 | F27: 1.4 | G27: 34.7 | H27: 48.5 | I27: 1.38 | J27: 32.1 | K27: 44.3
B28: 36 Skilled animal and horticultural workers | C28: 1.21 | D28: 37.2 | E28: 44.9 | F28: 1.2 | G28: 36.7 | H28: 44.2 | I28: 1.21 | J28: 33.3 | K28: 40.1
B29: 39 Other technicians and trades workers | C29: 1.4 | D29: 35.5 | E29: 49.7 | F29: 1.38 | G29: 35.5 | H29: 49.1 | I29: 1.36 | J29: 36.4 | K29: 49.6
B30: 391 Hairdressers | C30: 1.55 | D30: 32.9 | E30: 50.9 | F30: 1.56 | G30: 32.3 | H30: 50.3 | I30: 1.53 | J30: 35.4 | K30: 54.2
B31: 392 Printing trades workers | C31: 1.11 | D31: 50 | E31: 55.4 | F31: 1.07 | G31: 53.6 | H31: 57.6 | I31: 1.08 | J31: 48.3 | K31: 52.1
... B46: 55 Numerical clerks | C46: 1.04 | D46: 58.5 | E46: 61 | F46: 1.04 | G46: 60.4 | H46: 63 | I46: 1.05 | J46: 51.1 | K46: 53.4
B47: 56 Clerical and office support workers | C47: - | D47: - | E47: - | F47: - | G47: - | H47: - | I47: - | J47: - | K47: -
B48: 59 Other clerical and administrative workers | C48: 1.08 | D48: 45.9 | E48: 49.5 | F48: 1.06 | G48: 34.6 | H48: 36.5 | I48: 1.05 | J48: 40.3 | K48: 42.4
B49: Sales workers | C49: 1.09 | D49: 48.9 | E49: 53.3 | F49: 1.09 | G49: 52.9 | H49: 57.4 | I49: 1.09 | J49: 51.2 | K49: 55.9
B50: 61 Sales representatives and agents | C50: 1.11 | D50: 45.2 | E50: 50 | F50: 1.12 | G50: 46.1 | H50: 51.5 | I50: 1.13 | J50: 48.4 | K50: 55
B51: 62 Sales assistants and salespersons | C51: 1.08 | D51: 49.4 | E51: 53.6 | F51: 1.07 | G51: 54.8 | H51: 58.5 | I51: 1.06 | J51: 51.9 | K51: 55.2
B52: 63 Sales support workers | C52: - | D52: - | E52: - | F52: - | G52: - | H52: - | I52: - | J52: - | K52: -
B53: Machinery operators and drivers | C53: 1.13 | D53: 44.9 | E53: 50.8 | F53: 1.14 | G53: 50.7 | H53: 57.7 | I53: 1.11 | J53: 42.1 | K53: 46.5
B54: 71 Machine and stationary plant operators | C54: 1.09 | D54: 55.4 | E54: 60.4 | F54: 1.09 | G54: 65 | H54: 70.9 | I54: 1.05 | J54: 63.1 | K54: 66.4
B55: 72 Mobile plant operators | C55: 1.07 | D55: 63.4 | E55: 67.8 | F55: 1.07 | G55: 62.2 | H55: 66.7 | I55: 1.08 | J55: 59.4 | K55: 64.2
...

Sheet Vic
B1: Completion and attrition rates for apprentices and trainees 2023: data tables - to date
B2: Victoria
N3: Back to Index
B4: =Index!$C8 & " Vic : " & Index!B8 -> Table 1 Vic : Individual completion rates to date, based on a recommencement adjustment factor, and contract completion rates to date for trade and non-trade occupations commencing in 2017 to 2019
B6: Occupation (ANZSCO) group | C6: 2017 | F6: 2018 | I6: 2019
C7: Average annual adjustment factor | D7: Contract completion rate | E7: Individual completion rate | F7: Average annual adjustment factor | G7: Contract completion rate | H7: Individual completion rate | I7: Average annual adjustment factor | J7: Contract completion rate | K7: Individual completion rate
C8: Ratio | D8: % | E8: % | F8: Ratio | G8: % | H8: % | I8: Ratio | J8: % | K8: %
B9: Managers | C9: 1.01 | D9: 39.1 | E9: 39.4 | F9: 1 | G9: 43.1 | H9: 43.3 | I9: 1 | J9: 61 | K9: 61.3
B10: 11 Chief executives, general managers and legislators | C10: 1 | D10: 68.4 | E10: 68.5 | F10: 1 | G10: 42.5 | H10: 42.6 | I10: 1 | J10: 63.8 | K10: 63.9
B11: 12 Farmers and farm managers | C11: 1.02 | D11: 31.7 | E11: 32.5 | F11: 1.02 | G11: 51 | H11: 52.2 | I11: 1.03 | J11: 66.2 | K11: 68.2
B12: 13 Specialist managers | C12: 1.01 | D12: 58.7 | E12: 59.3 | F12: 1 | G12: 27.1 | H12: 27.1 | I12: 1 | J12: 57.9 | K12: 58
B13: 14 Hospitality, retail and service managers | C13: 1.01 | D13: 13.3 | E13: 13.4 | F13: 1.01 | G13: 57.9 | H13: 58.2 | I13: 1 | J13: 52.1 | K13: 52.2
B14: Professionals | C14: 1 | D14: 56.9 | E14: 57.1 | F14: 1.01 | G14: 25.8 | H14: 26 | I14: 1.01 | J14: 27.5 | K14: 27.7
B15: 21 Arts and media professionals | C15: 1 | D15: 0 | E15: 0 | F15: - | G15: - | H15: - | I15: 1 | J15: 0 | K15: 0
B16: 22 Business, human resource and marketing professionals | C16: 1 | D16: 35.7 | E16: 35.8 | F16: 1 | G16: 40 | H16: 40 | I16: 1 | J16: 42.9 | K16: 43
B17: 23 Design, engineering, science and transport professionals | C17: 1 | D17: 100 | E17: 100 | F17: 1.02 | G17: 45.5 | H17: 46.2 | I17: 1.02 | J17: 20 | K17: 20.5
B18: 24 Education professionals | C18: - | D18: - | E18: - | F18: - | G18: - | H18: - | I18: - | J18: - | K18: -
B19: 25 Health professionals | C19: - | D19: - | E19: - | F19: - | G19: - | H19: - | I19: - | J19: - | K19: -
B20: 26 ICT professionals | C20: 1.01 | D20: 62.5 | E20: 63 | F20: 1.01 | G20: 15.6 | H20: 15.8 | I20: 1 | J20: 30 | K20: 30
B21: 27 Legal, social and welfare professionals | C21: 1 | D21: 40 | E21: 40.2 | F21: 1.01 | G21: 0 | H21: 0 | I21: 1.01 | J21: 26.7 | K21: 27
B22: Technicians and trades workers | C22: 1.33 | D22: 39.5 | E22: 52.7 | F22: 1.3 | G22: 38.8 | H22: 50.6 | I22: 1.28 | J22: 38.5 | K22: 49.5
B23: 31 Engineering, ICT and science technicians | C23: 1.01 | D23: 57.1 | E23: 57.9 | F23: 1.01 | G23: 57.6 | H23: 58.3 | I23: 1.01 | J23: 50.2 | K23: 50.6
B24: 32 Automotive and engineering trades workers | C24: 1.19 | D24: 42.9 | E24: 51 | F24: 1.18 | G24: 42.8 | H24: 50.4 | I24: 1.17 | J24: 41 | K24: 48.1
B25: 33 Construction trades workers | C25: 1.51 | D25: 35.3 | E25: 53.3 | F25: 1.45 | G25: 34.8 | H25: 50.2 | I25: 1.4 | J25: 35.6 | K25: 50
B26: 34 Electrotechnology and telecommunications trades workers | C26: 1.42 | D26: 47.4 | E26: 67.1 | F26: 1.36 | G26: 44.8 | H26: 61.2 | I26: 1.34 | J26: 45.1 | K26: 60.4
B27: 35 Food trades workers | C27: 1.21 | D27: 36.5 | E27: 44.2 | F27: 1.2 | G27: 36.1 | H27: 43.4 | I27: 1.17 | J27: 35 | K27: 41.1
B28: 36 Skilled animal and horticultural workers | C28: 1.13 | D28: 43.1 | E28: 48.8 | F28: 1.14 | G28: 41.4 | H28: 47.3 | I28: 1.14 | J28: 42.3 | K28: 48.3
B29: 39 Other technicians and trades workers | C29: 1.22 | D29: 36.7 | E29: 44.6 | F29: 1.23 | G29: 35.8 | H29: 43.9 | I29: 1.24 | J29: 31.7 | K29: 39.2
B30: 391 Hairdressers | C30: 1.39 | D30: 28.5 | E30: 39.7 | F30: 1.44 | G30: 28.4 | H30: 40.9 | I30: 1.44 | J30: 25.3 | K30: 36.4
B31: 392 Printing trades workers | C31: 1.02 | D31: 73.6 | E31: 74.9 | F31: 1.03 | G31: 45.4 | H31: 46.6 | I31: 1.04 | J31: 52.4 | K31: 54.3
... B46: 55 Numerical clerks | C46: 1 | D46: 63.3 | E46: 63.5 | F46: 1 | G46: 70 | H46: 70.2 | I46: 1 | J46: 73.9 | K46: 74.1
B47: 56 Clerical and office support workers | C47: - | D47: - | E47: - | F47: - | G47: - | H47: - | I47: - | J47: - | K47: -
B48: 59 Other clerical and administrative workers | C48: 1.01 | D48: 42.8 | E48: 43 | F48: 1.02 | G48: 40.2 | H48: 40.8 | I48: 1.02 | J48: 35.2 | K48: 35.8
B49: Sales workers | C49: 1.01 | D49: 59.4 | E49: 60.1 | F49: 1.01 | G49: 65.4 | H49: 66.1 | I49: 1.01 | J49: 52.1 | K49: 52.7
B50: 61 Sales representatives and agents | C50: 1.02 | D50: 46.7 | E50: 47.6 | F50: 1.02 | G50: 50.9 | H50: 51.9 | I50: 1.02 | J50: 39.3 | K50: 40.1
B51: 62 Sales assistants and salespersons | C51: 1.01 | D51: 59.9 | E51: 60.6 | F51: 1.01 | G51: 66.3 | H51: 67 | I51: 1.01 | J51: 52.5 | K51: 53
B52: 63 Sales support workers | C52: 1 | D52: 66.7 | E52: 66.7 | F52: 1 | G52: 91.7 | H52: 91.7 | I52: 1 | J52: 68.8 | K52: 68.8
B53: Machinery operators and drivers | C53: 1.02 | D53: 49.8 | E53: 50.6 | F53: 1.02 | G53: 54.1 | H53: 55.4 | I53: 1.03 | J53: 53.2 | K53: 54.7
B54: 71 Machine and stationary plant operators | C54: 1.05 | D54: 29.1 | E54: 30.5 | F54: 1.05 | G54: 13.1 | H54: 13.7 | I54: 1.03 | J54: 19.5 | K54: 20.2
B55: 72 Mobile plant operators | C55: 1.02 | D55: 54.7 | E55: 56 | F55: 1.03 | G55: 48.9 | H55: 50.3 | I55: 1.03 | J55: 42.6 | K55: 44
...

Sheet Qld
B1: Completion and attrition rates for apprentices and trainees 2023: data tables - to date
B2: Queensland
N3: Back to Index
B4: =Index!$C8 & " Qld : " & Index!B8 -> Table 1 Qld : Individual completion rates to date, based on a recommencement adjustment factor, and contract completion rates to date for trade and non-trade occupations commencing in 2017 to 2019
B6: Occupation (ANZSCO) group | C6: 2017 | F6: 2018 | I6: 2019
C7: Average annual adjustment factor | D7: Contract completion rate | E7: Individual completion rate | F7: Average annual adjustment factor | G7: Contract completion rate | H7: Individual completion rate | I7: Average annual adjustment factor | J7: Contract completion rate | K7: Individual completion rate
C8: Ratio | D8: % | E8: % | F8: Ratio | G8: % | H8: % | I8: Ratio | J8: % | K8: %
B9: Managers | C9: 1.01 | D9: 38.5 | E9: 38.7 | F9: 1.01 | G9: 35.6 | H9: 35.9 | I9: 1.01 | J9: 28.9 | K9: 29.2
B10: 11 Chief executives, general managers and legislators | C10: 1 | D10: 43.1 | E10: 43.3 | F10: 1.01 | G10: 19.4 | H10: 19.5 | I10: 1.01 | J10: 28.6 | K10: 28.8
B11: 12 Farmers and farm managers | C11: 1.02 | D11: 45.5 | E11: 46.3 | F11: 1.02 | G11: 50 | H11: 50.8 | I11: 1.02 | J11: 9.1 | K11: 9.3
B12: 13 Specialist managers | C12: 1.01 | D12: 43.8 | E12: 44 | F12: 1 | G12: 58.3 | H12: 58.3 | I12: 1 | J12: 50 | K12: 50
B13: 14 Hospitality, retail and service managers | C13: 1.01 | D13: 17.1 | E13: 17.3 | F13: 1.01 | G13: 39.5 | H13: 39.9 | I13: 1.01 | J13: 25 | K13: 25.2
B14: Professionals | C14: 1 | D14: 43.8 | E14: 44 | F14: 1 | G14: 44.3 | H14: 44.4 | I14: 1 | J14: 37.7 | K14: 37.8
B15: 21 Arts and media professionals | C15: - | D15: - | E15: - | F15: - | G15: - | H15: - | I15: - | J15: - | K15: -
B16: 22 Business, human resource and marketing professionals | C16: 1 | D16: 60 | E16: 60 | F16: 1 | G16: 33.3 | H16: 33.3 | I16: 1 | J16: 0 | K16: 0
B17: 23 Design, engineering, science and transport professionals | C17: 1 | D17: 39.5 | E17: 39.6 | F17: 1 | G17: 58.3 | H17: 58.6 | I17: 1 | J17: 40.8 | K17: 41
B18: 24 Education professionals | C18: 1 | D18: 28.6 | E18: 28.6 | F18: 1 | G18: 0 | H18: 0 | I18: - | J18: - | K18: -
B19: 25 Health professionals | C19: - | D19: - | E19: - | F19: - | G19: - | H19: - | I19: - | J19: - | K19: -
B20: 26 ICT professionals | C20: 1 | D20: 60 | E20: 60 | F20: 1 | G20: 29.4 | H20: 29.4 | I20: 1 | J20: 45.5 | K20: 45.5
B21: 27 Legal, social and welfare professionals | C21: 1.01 | D21: 37.5 | E21: 37.8 | F21: 1.01 | G21: 30.8 | H21: 31 | I21: 1.01 | J21: 34.5 | K21: 34.7
B22: Technicians and trades workers | C22: 1.22 | D22: 47.7 | E22: 58 | F22: 1.19 | G22: 48.2 | H22: 57.4 | I22: 1.18 | J22: 46.1 | K22: 54.5
B23: 31 Engineering, ICT and science technicians | C23: 1.02 | D23: 71 | E23: 72.2 | F23: 1.02 | G23: 67 | H23: 68.1 | I23: 1.02 | J23: 54.6 | K23: 55.6
B24: 32 Automotive and engineering trades workers | C24: 1.16 | D24: 54.9 | E24: 63.7 | F24: 1.15 | G24: 53.7 | H24: 61.5 | I24: 1.14 | J24: 50.9 | K24: 58.2
B25: 33 Construction trades workers | C25: 1.27 | D25: 40.7 | E25: 51.5 | F25: 1.25 | G25: 43.7 | H25: 54.4 | I25: 1.24 | J25: 42.9 | K25: 53.1
B26: 34 Electrotechnology and telecommunications trades workers | C26: 1.23 | D26: 57.7 | E26: 70.8 | F26: 1.2 | G26: 58 | H26: 69.9 | I26: 1.2 | J26: 55.5 | K26: 66.5
B27: 35 Food trades workers | C27: 1.36 | D27: 32.3 | E27: 43.9 | F27: 1.27 | G27: 31.5 | H27: 40 | I27: 1.24 | J27: 31.4 | K27: 39.1
B28: 36 Skilled animal and horticultural workers | C28: 1.06 | D28: 53.4 | E28: 56.9 | F28: 1.06 | G28: 50.1 | H28: 53 | I28: 1.06 | J28: 49.4 | K28: 52.3
B29: 39 Other technicians and trades workers | C29: 1.3 | D29: 41 | E29: 53.2 | F29: 1.27 | G29: 38.9 | H29: 49.2 | I29: 1.25 | J29: 35.2 | K29: 44.2
B30: 391 Hairdressers | C30: 1.46 | D30: 32.9 | E30: 47.9 | F30: 1.43 | G30: 28.2 | H30: 40.3 | I30: 1.41 | J30: 28.7 | K30: 40.6
B31: 392 Printing trades workers | C31: 1.05 | D31: 48.6 | E31: 51.1 | F31: 1.04 | G31: 42 | H31: 43.6 | I31: 1.04 | J31: 52.7 | K31: 54.7
... B38: 43 Hospitality workers | C38: 1.03 | D38: 50.7 | E38: 52 | F38: 1.02 | G38: 56.7 | H38: 58.1 | I38: 1.02 | J38: 50.4 | K38: 51.5
B39: 44 Protective service workers | C39: - | D39: - | E39: - | F39: - | G39: - | H39: - | I39: - | J39: - | K39: -
B40: 45 Sports and personal service workers | C40: 1.02 | D40: 59.2 | E40: 60.4 | F40: 1.02 | G40: 63.7 | H40: 65.1 | I40: 1.03 | J40: 35.8 | K40: 36.8
B41: Clerical and administrative workers | C41: 1.02 | D41: 62 | E41: 62.9 | F41: 1.01 | G41: 61.1 | H41: 62 | I41: 1.02 | J41: 61.1 | K41: 62.1
B42: 51 Office managers and program administrators | C42: 1.01 | D42: 56.8 | E42: 57.1 | F42: 1.01 | G42: 34.7 | H42: 34.9 | I42: 1.01 | J42: 42.9 | K42: 43.1
B43: 52 Personal assistants and secretaries | C43: 1.01 | D43: 71.4 | E43: 72.3 | F43: 1.01 | G43: 64.7 | H43: 65.5 | I43: 1.01 | J43: 62.1 | K43: 62.9
B44: 53 General clerical workers | C44: 1.02 | D44: 65 | E44: 66.2 | F44: 1.02 | G44: 62.9 | H44: 63.9 | I44: 1.02 | J44: 62 | K44: 63.2
B45: 54 Inquiry clerks and receptionists | C45: 1 | D45: 52.5 | E45: 52.8 | F45: 1 | G45: 57.1 | H45: 57.2 | I45: 1 | J45: 65 | K45: 65.1
B46: 55 Numerical clerks | C46: 1.01 | D46: 56.2 | E46: 56.9 | F46: 1.01 | G46: 55.3 | H46: 55.9 | I46: 1.01 | J46: 53.1 | K46: 53.7
B47: 56 Clerical and office support workers | C47: - | D47: - | E47: - | F47: - | G47: - | H47: - | I47: - | J47: - | K47: -
...

Sheet SA
B1: Completion and attrition rates for apprentices and trainees 2023: data tables - to date
B2: South Australia
N3: Back to Index
B4: =Index!$C8 & " SA : " & Index!B8 -> Table 1 SA : Individual completion rates to date, based on a recommencement adjustment factor, and contract completion rates to date for trade and non-trade occupations commencing in 2017 to 2019
B6: Occupation (ANZSCO) group | C6: 2017 | F6: 2018 | I6: 2019
C7: Average annual adjustment factor | D7: Contract completion rate | E7: Individual completion rate | F7: Average annual adjustment factor | G7: Contract completion rate | H7: Individual completion rate | I7: Average annual adjustment factor | J7: Contract completion rate | K7: Individual completion rate
C8: Ratio | D8: % | E8: % | F8: Ratio | G8: % | H8: % | I8: Ratio | J8: % | K8: %
B9: Managers | C9: 1.01 | D9: 36.4 | E9: 36.7 | F9: 1.01 | G9: 40 | H9: 40.3 | I9: 1.01 | J9: 52.4 | K9: 52.9
B10: 11 Chief executives, general managers and legislators | C10: 1.01 | D10: 50 | E10: 50.4 | F10: 1.01 | G10: 50 | H10: 50.4 | I10: 1.01 | J10: 46.4 | K10: 46.8
B11: 12 Farmers and farm managers | C11: 1.04 | D11: 31.8 | E11: 33.1 | F11: 1 | G11: 0 | H11: 0 | I11: 1 | J11: 60 | K11: 60
B12: 13 Specialist managers | C12: 1.02 | D12: 42.9 | E12: 43.8 | F12: 1.02 | G12: 41.7 | H12: 42.5 | I12: 1.02 | J12: 40.5 | K12: 41.3
B13: 14 Hospitality, retail and service managers | C13: - | D13: - | E13: - | F13: - | G13: - | H13: - | I13: 1 | J13: 71.4 | K13: 71.4
B14: Professionals | C14: 1.01 | D14: 80 | E14: 80.8 | F14: 1.01 | G14: 53.3 | H14: 53.7 | I14: 1.01 | J14: 49.3 | K14: 49.9
B15: 21 Arts and media professionals | C15: - | D15: - | E15: - | F15: - | G15: - | H15: - | I15: - | J15: - | K15: -
B16: 22 Business, human resource and marketing professionals | C16: - | D16: - | E16: - | F16: 1 | G16: 25 | H16: 25.1 | I16: 1.01 | J16: 19 | K16: 19.2
B17: 23 Design, engineering, science and transport professionals | C17: 1 | D17: 100 | E17: 100 | F17: 1 | G17: 50 | H17: 50 | I17: 1.01 | J17: 57.1 | K17: 57.7
B18: 24 Education professionals | C18: 1.02 | D18: 100 | E18: 101.9 | F18: - | G18: - | H18: - | I18: 1.01 | J18: 52.4 | K18: 53
B19: 25 Health professionals | C19: - | D19: - | E19: - | F19: - | G19: - | H19: - | I19: - | J19: - | K19: -
B20: 26 ICT professionals | C20: 1.02 | D20: 75 | E20: 76.5 | F20: 1.02 | G20: 80 | H20: 81.9 | I20: 1.03 | J20: 78.6 | K20: 80.7
B21: 27 Legal, social and welfare professionals | C21: - | D21: - | E21: - | F21: - | G21: - | H21: - | I21: 1.02 | J21: 66.7 | K21: 67.7
B22: Technicians and trades workers | C22: 1.19 | D22: 54 | E22: 64.3 | F22: 1.18 | G22: 52.3 | H22: 62 | I22: 1.19 | J22: 50.4 | K22: 59.8
B23: 31 Engineering, ICT and science technicians | C23: 1.01 | D23: 62.8 | E23: 63.4 | F23: 1.01 | G23: 54.5 | H23: 54.9 | I23: 1.01 | J23: 63 | K23: 63.6
B24: 32 Automotive and engineering trades workers | C24: 1.17 | D24: 55.2 | E24: 64.5 | F24: 1.17 | G24: 49.5 | H24: 58.1 | I24: 1.18 | J24: 48.2 | K24: 56.7
B25: 33 Construction trades workers | C25: 1.22 | D25: 56.9 | E25: 69.6 | F25: 1.22 | G25: 54.4 | H25: 66.4 | I25: 1.22 | J25: 51.9 | K25: 63.3
B26: 34 Electrotechnology and telecommunications trades workers | C26: 1.17 | D26: 69.8 | E26: 81.5 | F26: 1.17 | G26: 69.1 | H26: 81.1 | I26: 1.19 | J26: 62.8 | K26: 74.7
B27: 35 Food trades workers | C27: 1.3 | D27: 30 | E27: 39 | F27: 1.28 | G27: 31 | H27: 39.7 | I27: 1.25 | J27: 30.2 | K27: 37.8
B28: 36 Skilled animal and horticultural workers | C28: 1.05 | D28: 49.3 | E28: 51.6 | F28: 1.05 | G28: 51.4 | H28: 54.1 | I28: 1.06 | J28: 46.9 | K28: 49.9
B29: 39 Other technicians and trades workers | C29: 1.28 | D29: 43.7 | E29: 55.7 | F29: 1.27 | G29: 43.4 | H29: 55 | I29: 1.27 | J29: 45.7 | K29: 58
B30: 391 Hairdressers | C30: 1.45 | D30: 38.8 | E30: 56.2 | F30: 1.47 | G30: 36.8 | H30: 54.3 | I30: 1.48 | J30: 37.4 | K30: 55.5
B31: 392 Printing trades workers | C31: 1.08 | D31: 63.2 | E31: 68.2 | F31: 1.07 | G31: 66.7 | H31: 71.6 | I31: 1.06 | J31: 47.2 | K31: 49.9
B32: 393 Textile, clothing and footwear trades workers | C32: 1 | D32: 0 | E32: 0 | F32: 1.1 | G32: 50 | H32: 55 | I32: - | J32: - | K32: -
B33: 394 Wood trades workers | C33: 1.14 | D33: 52.7 | E33: 60.1 | F33: 1.15 | G33: 56 | H33: 64.1 | I33: 1.15 | J33: 53 | K33: 60.9
B34: 399 Miscellaneous technicians and trades workers | C34: 1.01 | D34: 64.3 | E34: 65 | F34: 1.01 | G34: 40 | H34: 40.5 | I34: 1.02 | J34: 73.4 | K34: 74.7
B35: Community and personal service workers | C35: 1.02 | D35: 62 | E35: 62.9 | F35: 1.02 | G35: 62.8 | H35: 63.7 | I35: 1.02 | J35: 43.2 | K35: 44.1
B36: 41 Health and welfare support workers | C36: 1.01 | D36: 55.1 | E36: 55.6 | F36: 1.01 | G36: 47.7 | H36: 48.2 | I36: 1.01 | J36: 23.1 | K36: 23.4
B37: 42 Carers and aides | C37: 1.02 | D37: 64.6 | E37: 65.8 | F37: 1.02 | G37: 63.2 | H37: 64.2 | I37: 1.02 | J37: 55.3 | K37: 56.4
B38: 43 Hospitality workers | C38: 1.02 | D38: 52.8 | E38: 53.6 | F38: 1.02 | G38: 49.3 | H38: 50.1 | I38: 1.02 | J38: 42.5 | K38: 43.2
B39: 44 Protective service workers | C39: 1 | D39: 95 | E39: 95 | F39: 1 | G39: 71.4 | H39: 71.4 | I39: 1 | J39: 23.7 | K39: 23.7
B40: 45 Sports and personal service workers | C40: 1.02 | D40: 59.7 | E40: 60.8 | F40: 1.02 | G40: 66.2 | H40: 67.6 | I40: 1.03 | J40: 33 | K40: 33.9
B41: Clerical and administrative workers | C41: 1.01 | D41: 59.4 | E41: 60 | F41: 1.01 | G41: 52.7 | H41: 53.2 | I41: 1.01 | J41: 46.7 | K41: 47.2
...

Sheet WA
B1: Completion and attrition rates for apprentices and trainees 2023: data tables - to date
B2: Western Australia
N3: Back to Index
B4: =Index!$C8 & " WA : " & Index!B8 -> Table 1 WA : Individual completion rates to date, based on a recommencement adjustment factor, and contract completion rates to date for trade and non-trade occupations commencing in 2017 to 2019
B6: Occupation (ANZSCO) group | C6: 2017 | F6: 2018 | I6: 2019
C7: Average annual adjustment factor | D7: Contract completion rate | E7: Individual completion rate | F7: Average annual adjustment factor | G7: Contract completion rate | H7: Individual completion rate | I7: Average annual adjustment factor | J7: Contract completion rate | K7: Individual completion rate
C8: Ratio | D8: % | E8: % | F8: Ratio | G8: % | H8: % | I8: Ratio | J8: % | K8: %
B9: Managers | C9: 1.04 | D9: 35.2 | E9: 36.6 | F9: 1.04 | G9: 44.2 | H9: 45.8 | I9: 1.04 | J9: 37.5 | K9: 38.9
B10: 11 Chief executives, general managers and legislators | C10: 1.05 | D10: 28.6 | E10: 30.1 | F10: 1.05 | G10: 50.9 | H10: 53.6 | I10: 1.04 | J10: 21.1 | K10: 21.9
B11: 12 Farmers and farm managers | C11: 1.03 | D11: 77.3 | E11: 79.3 | F11: 1.03 | G11: 55 | H11: 56.5 | I11: 1.04 | J11: 53.8 | K11: 56.2
B12: 13 Specialist managers | C12: 1.03 | D12: 42.3 | E12: 43.4 | F12: 1.02 | G12: 46 | H12: 46.9 | I12: 1.02 | J12: 53.8 | K12: 55.2
B13: 14 Hospitality, retail and service managers | C13: 1.03 | D13: 34.3 | E13: 35.4 | F13: 1.03 | G13: 36.1 | H13: 37.2 | I13: 1.03 | J13: 29.2 | K13: 30.2
B14: Professionals | C14: 1.03 | D14: 57.6 | E14: 59.6 | F14: 1.04 | G14: 59.7 | H14: 62.1 | I14: 1.04 | J14: 30 | K14: 31.1
B15: 21 Arts and media professionals | C15: - | D15: - | E15: - | F15: - | G15: - | H15: - | I15: - | J15: - | K15: -
B16: 22 Business, human resource and marketing professionals | C16: 1.03 | D16: 79.1 | E16: 81.2 | F16: 1.02 | G16: 57.1 | H16: 58.5 | I16: 1.02 | J16: 0 | K16: 0
B17: 23 Design, engineering, science and transport professionals | C17: 1.1 | D17: 85.7 | E17: 93.9 | F17: 1.05 | G17: 90.9 | H17: 95 | I17: 1.04 | J17: 0 | K17: 0
B18: 24 Education professionals | C18: - | D18: - | E18: - | F18: - | G18: - | H18: - | I18: - | J18: - | K18: -
B19: 25 Health professionals | C19: - | D19: - | E19: - | F19: - | G19: - | H19: - | I19: - | J19: - | K19: -
B20: 26 ICT professionals | C20: 1 | D20: 40 | E20: 40 | F20: 1 | G20: 50 | H20: 50 | I20: 1 | J20: 28.6 | K20: 28.6
B21: 27 Legal, social and welfare professionals | C21: 1.03 | D21: 33.3 | E21: 34.5 | F21: 1.05 | G21: 54.7 | H21: 57.3 | I21: 1.04 | J21: 31.3 | K21: 32.7
B22: Technicians and trades workers | C22: 1.17 | D22: 56.3 | E22: 66 | F22: 1.17 | G22: 56.8 | H22: 66.1 | I22: 1.17 | J22: 52.3 | K22: 61.1
B23: 31 Engineering, ICT and science technicians | C23: 1.03 | D23: 50 | E23: 51.4 | F23: 1.03 | G23: 54.4 | H23: 55.9 | I23: 1.03 | J23: 49 | K23: 50.4
B24: 32 Automotive and engineering trades workers | C24: 1.11 | D24: 63.7 | E24: 70.9 | F24: 1.12 | G24: 61.5 | H24: 68.7 | I24: 1.13 | J24: 56.2 | K24: 63.3
B25: 33 Construction trades workers | C25: 1.26 | D25: 51.7 | E25: 65.1 | F25: 1.23 | G25: 52.4 | H25: 64.7 | I25: 1.23 | J25: 49.7 | K25: 61.1
B26: 34 Electrotechnology and telecommunications trades workers | C26: 1.2 | D26: 64.9 | E26: 78.1 | F26: 1.19 | G26: 61.5 | H26: 73.1 | I26: 1.2 | J26: 55.7 | K26: 66.8
B27: 35 Food trades workers | C27: 1.26 | D27: 39 | E27: 49.3 | F27: 1.24 | G27: 40.4 | H27: 50.1 | I27: 1.22 | J27: 43 | K27: 52.4
B28: 36 Skilled animal and horticultural workers | C28: 1.05 | D28: 57.9 | E28: 60.8 | F28: 1.05 | G28: 62.6 | H28: 65.6 | I28: 1.05 | J28: 59.8 | K28: 62.6
B29: 39 Other technicians and trades workers | C29: 1.26 | D29: 45.7 | E29: 57.6 | F29: 1.29 | G29: 48.6 | H29: 62.6 | I29: 1.3 | J29: 41.9 | K29: 54.3
B30: 391 Hairdressers | C30: 1.46 | D30: 40.6 | E30: 59.3 | F30: 1.46 | G30: 40.7 | H30: 59.3 | I30: 1.48 | J30: 35.7 | K30: 52.7
B31: 392 Printing trades workers | C31: 1.02 | D31: 30 | E31: 30.6 | F31: 1.03 | G31: 50 | H31: 51.5 | I31: 1.04 | J31: 52.1 | K31: 54.4
... B46: 55 Numerical clerks | C46: 1.01 | D46: 61.3 | E46: 61.8 | F46: 1.01 | G46: 65.9 | H46: 66.4 | I46: 1.01 | J46: 60 | K46: 60.7
B47: 56 Clerical and office support workers | C47: - | D47: - | E47: - | F47: - | G47: - | H47: - | I47: - | J47: - | K47: -
B48: 59 Other clerical and administrative workers | C48: 1.01 | D48: 50.3 | E48: 51 | F48: 1.01 | G48: 34.1 | H48: 34.5 | I48: 1.01 | J48: 43.7 | K48: 44.3
B49: Sales workers | C49: 1.01 | D49: 57.7 | E49: 58.6 | F49: 1.01 | G49: 62.9 | H49: 63.9 | I49: 1.02 | J49: 58.1 | K49: 59
B50: 61 Sales representatives and agents | C50: 1.01 | D50: 57.1 | E50: 57.6 | F50: 1 | G50: 65.8 | H50: 66 | I50: 1.01 | J50: 50 | K50: 50.5
B51: 62 Sales assistants and salespersons | C51: 1.02 | D51: 57.8 | E51: 58.6 | F51: 1.02 | G51: 62.8 | H51: 63.8 | I51: 1.02 | J51: 58.2 | K51: 59.1
B52: 63 Sales support workers | C52: - | D52: - | E52: - | F52: - | G52: - | H52: - | I52: - | J52: - | K52: -
B53: Machinery operators and drivers | C53: 1.03 | D53: 51 | E53: 52.6 | F53: 1.03 | G53: 53.4 | H53: 55 | I53: 1.03 | J53: 55.1 | K53: 56.7
B54: 71 Machine and stationary plant operators | C54: 1.03 | D54: 54.6 | E54: 56 | F54: 1.03 | G54: 61.8 | H54: 63.5 | I54: 1.03 | J54: 59.3 | K54: 60.9
B55: 72 Mobile plant operators | C55: 1.07 | D55: 32.9 | E55: 35.3 | F55: 1.05 | G55: 32.9 | H55: 34.6 | I55: 1.04 | J55: 37.3 | K55: 38.6
...

Sheet Tas
B1: Completion and attrition rates for apprentices and trainees 2023: data tables - to date
B2: Tasmania
N3: Back to Index
B4: =Index!$C8 & " Tas : " & Index!B8 -> Table 1 Tas : Individual completion rates to date, based on a recommencement adjustment factor, and contract completion rates to date for trade and non-trade occupations commencing in 2017 to 2019
B6: Occupation (ANZSCO) group | C6: 2017 | F6: 2018 | I6: 2019
C7: Average annual adjustment factor | D7: Contract completion rate | E7: Individual completion rate | F7: Average annual adjustment factor | G7: Contract completion rate | H7: Individual completion rate | I7: Average annual adjustment factor | J7: Contract completion rate | K7: Individual completion rate
C8: Ratio | D8: % | E8: % | F8: Ratio | G8: % | H8: % | I8: Ratio | J8: % | K8: %
B9: Managers | C9: 1.02 | D9: 48.1 | E9: 49 | F9: 1.02 | G9: 49.2 | H9: 50.4 | I9: 1.02 | J9: 57.3 | K9: 58.6
B10: 11 Chief executives, general managers and legislators | C10: 1.02 | D10: 54.3 | E10: 55.3 | F10: 1.03 | G10: 51.2 | H10: 52.6 | I10: 1.03 | J10: 57.6 | K10: 59.2
B11: 12 Farmers and farm managers | C11: 1.05 | D11: 27.3 | E11: 28.7 | F11: 1.03 | G11: 44.4 | H11: 45.8 | I11: 1 | J11: 33.4 | K11: 33.4
B12: 13 Specialist managers | C12: 1 | D12: 66.7 | E12: 66.7 | F12: 1 | G12: 46.2 | H12: 46.2 | I12: 1 | J12: 68.1 | K12: 68.1
B13: 14 Hospitality, retail and service managers | C13: 1 | D13: 60 | E13: 60 | F13: - | G13: - | H13: - | I13: 1 | J13: 11.1 | K13: 11.1
B14: Professionals | C14: 1.02 | D14: 53.3 | E14: 54.4 | F14: 1.03 | G14: 85 | H14: 87.4 | I14: 1.03 | J14: 70.6 | K14: 72.4
B15: 21 Arts and media professionals | C15: - | D15: - | E15: - | F15: - | G15: - | H15: - | I15: - | J15: - | K15: -
B16: 22 Business, human resource and marketing professionals | C16: 1.11 | D16: 100 | E16: 111.1 | F16: - | G16: - | H16: - | I16: - | J16: - | K16: -
B17: 23 Design, engineering, science and transport professionals | C17: - | D17: - | E17: - | F17: 1.07 | G17: 87.5 | H17: 93.8 | I17: 1.09 | J17: 70.6 | K17: 76.9
B18: 24 Education professionals | C18: - | D18: - | E18: - | F18: - | G18: - | H18: - | I18: - | J18: - | K18: -
B19: 25 Health professionals | C19: - | D19: - | E19: - | F19: - | G19: - | H19: - | I19: - | J19: - | K19: -
B20: 26 ICT professionals | C20: - | D20: - | E20: - | F20: 1 | G20: 0 | H20: 0 | I20: - | J20: - | K20: -
B21: 27 Legal, social and welfare professionals | C21: 1 | D21: 50 | E21: 50 | F21: 1.01 | G21: 100 | H21: 101 | I21: - | J21: - | K21: -
B22: Technicians and trades workers | C22: 1.22 | D22: 54.1 | E22: 65.8 | F22: 1.21 | G22: 52.2 | H22: 63.3 | I22: 1.22 | J22: 50.2 | K22: 61.5
B23: 31 Engineering, ICT and science technicians | C23: 1.03 | D23: 70.1 | E23: 72.2 | F23: 1.03 | G23: 59.6 | H23: 61.2 | I23: 1.03 | J23: 58 | K23: 59.8
B24: 32 Automotive and engineering trades workers | C24: 1.17 | D24: 57.4 | E24: 67.3 | F24: 1.2 | G24: 55.3 | H24: 66.1 | I24: 1.2 | J24: 49.7 | K24: 59.8
B25: 33 Construction trades workers | C25: 1.21 | D25: 60.5 | E25: 73.4 | F25: 1.24 | G25: 56.2 | H25: 69.4 | I25: 1.27 | J25: 53.2 | K25: 67.6
B26: 34 Electrotechnology and telecommunications trades workers | C26: 1.2 | D26: 68.4 | E26: 82 | F26: 1.17 | G26: 62.7 | H26: 73.6 | I26: 1.18 | J26: 61 | K26: 72.3
B27: 35 Food trades workers | C27: 1.55 | D27: 29.1 | E27: 45.1 | F27: 1.46 | G27: 25.6 | H27: 37.3 | I27: 1.42 | J27: 27.4 | K27: 38.7
B28: 36 Skilled animal and horticultural workers | C28: 1.08 | D28: 51.9 | E28: 56.1 | F28: 1.09 | G28: 47.8 | H28: 51.9 | I28: 1.09 | J28: 52.4 | K28: 57.3
B29: 39 Other technicians and trades workers | C29: 1.17 | D29: 60.8 | E29: 70.9 | F29: 1.19 | G29: 61.1 | H29: 72.7 | I29: 1.21 | J29: 53 | K29: 64.3
B30: 391 Hairdressers | C30: 1.43 | D30: 27.9 | E30: 40 | F30: 1.47 | G30: 34.2 | H30: 50.3 | I30: 1.51 | J30: 28.9 | K30: 43.7
B31: 392 Printing trades workers | C31: 1.05 | D31: 75 | E31: 78.4 | F31: 1.08 | G31: 75 | H31: 81.3 | I31: 1.1 | J31: 100 | K31: 110
B32: 393 Textile, clothing and footwear trades workers | C32: 1.06 | D32: 50 | E32: 53.1 | F32: 1.05 | G32: 50 | H32: 52.6 | I32: 1.06 | J32: 67 | K32: 70.9
B33: 394 Wood trades workers | C33: 1.17 | D33: 55.8 | E33: 65.2 | F33: 1.15 | G33: 59.6 | H33: 68.8 | I33: 1.16 | J33: 55.7 | K33: 64.5
... B46: 55 Numerical clerks | C46: 1.01 | D46: 75 | E46: 76.1 | F46: 1.01 | G46: 83.3 | H46: 83.8 | I46: 1.01 | J46: 56.1 | K46: 56.7
B47: 56 Clerical and office support workers | C47: - | D47: - | E47: - | F47: - | G47: - | H47: - | I47: - | J47: - | K47: -
B48: 59 Other clerical and administrative workers | C48: 1.04 | D48: 54.8 | E48: 56.9 | F48: 1.02 | G48: 61.9 | H48: 63.3 | I48: 1.02 | J48: 37.5 | K48: 38.2
B49: Sales workers | C49: 1.02 | D49: 67.1 | E49: 68.6 | F49: 1.03 | G49: 65.5 | H49: 67.5 | I49: 1.04 | J49: 60.6 | K49: 63.1
B50: 61 Sales representatives and agents | C50: 1.02 | D50: 53.1 | E50: 54.2 | F50: 1.03 | G50: 48.4 | H50: 49.8 | I50: 1.08 | J50: 63.4 | K50: 68.2
B51: 62 Sales assistants and salespersons | C51: 1.02 | D51: 67.6 | E51: 69.2 | F51: 1.03 | G51: 66.5 | H51: 68.5 | I51: 1.03 | J51: 60.1 | K51: 62.1
B52: 63 Sales support workers | C52: - | D52: - | E52: - | F52: - | G52: - | H52: - | I52: - | J52: - | K52: -
B53: Machinery operators and drivers | C53: 1.04 | D53: 60.9 | E53: 63.6 | F53: 1.04 | G53: 53 | H53: 55.3 | I53: 1.05 | J53: 50.2 | K53: 52.8
...

Sheet NT
B1: Completion and attrition rates for apprentices and trainees 2023: data tables - to date
B2: Northern Territory
N3: Back to Index
B4: =Index!$C8 & " NT : " & Index!B8 -> Table 1 NT : Individual completion rates to date, based on a recommencement adjustment factor, and contract completion rates to date for trade and non-trade occupations commencing in 2017 to 2019
B6: Occupation (ANZSCO) group | C6: 2017 | F6: 2018 | I6: 2019
C7: Average annual adjustment factor | D7: Contract completion rate | E7: Individual completion rate | F7: Average annual adjustment factor | G7: Contract completion rate | H7: Individual completion rate | I7: Average annual adjustment factor | J7: Contract completion rate | K7: Individual completion rate
C8: Ratio | D8: % | E8: % | F8: Ratio | G8: % | H8: % | I8: Ratio | J8: % | K8: %
B9: Managers | C9: 1.03 | D9: 65 | E9: 66.9 | F9: 1.02 | G9: 25 | H9: 25.4 | I9: 1.02 | J9: 50 | K9: 50.8
B10: 11 Chief executives, general managers and legislators | C10: - | D10: - | E10: - | F10: - | G10: - | H10: - | I10: - | J10: - | K10: -
B11: 12 Farmers and farm managers | C11: 1.05 | D11: 63.9 | E11: 67.2 | F11: 1.03 | G11: 25 | H11: 25.7 | I11: 1.03 | J11: 38.5 | K11: 39.7
B12: 13 Specialist managers | C12: 1.03 | D12: 75 | E12: 77.6 | F12: 1.04 | G12: 25 | H12: 26 | I12: 1.02 | J12: 27.3 | K12: 27.9
B13: 14 Hospitality, retail and service managers | C13: - | D13: - | E13: - | F13: - | G13: - | H13: - | I13: 1 | J13: 75 | K13: 75
B14: Professionals | C14: 1 | D14: 100 | E14: 100 | F14: 1.01 | G14: 63.4 | H14: 63.9 | I14: 1.02 | J14: 90.9 | K14: 92.6
B15: 21 Arts and media professionals | C15: - | D15: - | E15: - | F15: - | G15: - | H15: - | I15: - | J15: - | K15: -
B16: 22 Business, human resource and marketing professionals | C16: 1 | D16: 100 | E16: 100 | F16: - | G16: - | H16: - | I16: - | J16: - | K16: -
B17: 23 Design, engineering, science and transport professionals | C17: 1 | D17: 100 | E17: 100 | F17: - | G17: - | H17: - | I17: - | J17: - | K17: -
B18: 24 Education professionals | C18: - | D18: - | E18: - | F18: - | G18: - | H18: - | I18: 1.01 | J18: 83.3 | K18: 84.4
B19: 25 Health professionals | C19: - | D19: - | E19: - | F19: - | G19: - | H19: - | I19: - | J19: - | K19: -
B20: 26 ICT professionals | C20: - | D20: - | E20: - | F20: - | G20: - | H20: - | I20: - | J20: - | K20: -
B21: 27 Legal, social and welfare professionals | C21: 1 | D21: 100 | E21: 100 | F21: 1.02 | G21: 63.4 | H21: 64.4 | I21: 1.05 | J21: 100 | K21: 104.8
B22: Technicians and trades workers | C22: 1.2 | D22: 46.5 | E22: 55.7 | F22: 1.2 | G22: 51 | H22: 61.3 | I22: 1.22 | J22: 43.1 | K22: 52.4
B23: 31 Engineering, ICT and science technicians | C23: 1.02 | D23: 56.9 | E23: 58.2 | F23: 1.02 | G23: 66.1 | H23: 67.6 | I23: 1.03 | J23: 43.9 | K23: 45.4
B24: 32 Automotive and engineering trades workers | C24: 1.16 | D24: 46.6 | E24: 54 | F24: 1.16 | G24: 52.4 | H24: 60.7 | I24: 1.18 | J24: 44.6 | K24: 52.6
B25: 33 Construction trades workers | C25: 1.27 | D25: 36.1 | E25: 46 | F25: 1.31 | G25: 46.3 | H25: 60.6 | I25: 1.32 | J25: 33.6 | K25: 44.4
B26: 34 Electrotechnology and telecommunications trades workers | C26: 1.24 | D26: 58.4 | E26: 72.6 | F26: 1.24 | G26: 51.7 | H26: 63.9 | I26: 1.23 | J26: 54 | K26: 66.2
B27: 35 Food trades workers | C27: 1.27 | D27: 33.3 | E27: 42.3 | F27: 1.23 | G27: 42.3 | H27: 51.9 | I27: 1.27 | J27: 28.6 | K27: 36.2
B28: 36 Skilled animal and horticultural workers | C28: 1.03 | D28: 53.3 | E28: 54.9 | F28: 1.02 | G28: 46.9 | H28: 48 | I28: 1.03 | J28: 44.8 | K28: 46
B29: 39 Other technicians and trades workers | C29: 1.21 | D29: 27.7 | E29: 33.4 | F29: 1.21 | G29: 51.5 | H29: 62.5 | I29: 1.22 | J29: 28.6 | K29: 34.8
B30: 391 Hairdressers | C30: 1.38 | D30: 23.7 | E30: 32.7 | F30: 1.38 | G30: 31.7 | H30: 43.9 | I30: 1.36 | J30: 14.3 | K30: 19.4
B31: 392 Printing trades workers | C31: 1 | D31: 100 | E31: 100 | F31: 1 | G31: 100 | H31: 100 | I31: 1 | J31: 0 | K31: 0
B32: 393 Textile, clothing and footwear trades workers | C32: - | D32: - | E32: - | F32: - | G32: - | H32: - | I32: 1 | J32: 100 | K32: 100
B33: 394 Wood trades workers | C33: 1.11 | D33: 50 | E33: 55.6 | F33: 1.14 | G33: 50 | H33: 56.9 | I33: 1.15 | J33: 47.5 | K33: 54.4
B34: 399 Miscellaneous technicians and trades workers | C34: 1.02 | D34: 25 | E34: 25.6 | F34: 1.03 | G34: 68.1 | H34: 70.2 | I34: 1.03 | J34: 61.4 | K34: 63.1
B35: Community and personal service workers | C35: 1.04 | D35: 53.4 | E35: 55.4 | F35: 1.04 | G35: 47.7 | H35: 49.6 | I35: 1.04 | J35: 45.8 | K35: 47.7
B36: 41 Health and welfare support workers | C36: 1.01 | D36: 63 | E36: 63.9 | F36: 1.02 | G36: 25.8 | H36: 26.3 | I36: 1.02 | J36: 36.7 | K36: 37.6
B37: 42 Carers and aides | C37: 1.08 | D37: 38 | E37: 40.9 | F37: 1.07 | G37: 40.6 | H37: 43.5 | I37: 1.07 | J37: 45.6 | K37: 48.7
B38: 43 Hospitality workers | C38: 1.02 | D38: 52.9 | E38: 53.9 | F38: 1.03 | G38: 57.8 | H38: 59.5 | I38: 1.04 | J38: 57 | K38: 59.4
B39: 44 Protective service workers | C39: 1 | D39: 93.8 | E39: 93.8 | F39: 1 | G39: 100 | H39: 100 | I39: 1 | J39: 91.7 | K39: 91.7
B40: 45 Sports and personal service workers | C40: 1.01 | D40: 70.5 | E40: 71.1 | F40: 1.01 | G40: 71.7 | H40: 72.4 | I40: 1.01 | J40: 48.8 | K40: 49.6
B41: Clerical and administrative workers | C41: 1.02 | D41: 44.8 | E41: 45.5 | F41: 1.01 | G41: 40.4 | H41: 41 | I41: 1.02 | J41: 43.6 | K41: 44.5
...

Sheet ACT
B1: Completion and attrition rates for apprentices and trainees 2023: data tables - to date
B2: Australian Capital Territory
N3: Back to Index
B4: =Index!$C8 & " ACT : " & Index!B8 -> Table 1 ACT : Individual completion rates to date, based on a recommencement adjustment factor, and contract completion rates to date for trade and non-trade occupations commencing in 2017 to 2019
B6: Occupation (ANZSCO) group | C6: 2017 | F6: 2018 | I6: 2019
C7: Average annual adjustment factor | D7: Contract completion rate | E7: Individual completion rate | F7: Average annual adjustment factor | G7: Contract completion rate | H7: Individual completion rate | I7: Average annual adjustment factor | J7: Contract completion rate | K7: Individual completion rate
C8: Ratio | D8: % | E8: % | F8: Ratio | G8: % | H8: % | I8: Ratio | J8: % | K8: %
B9: Managers | C9: 1 | D9: 63.3 | E9: 63.3 | F9: 1 | G9: 62.6 | H9: 62.6 | I9: 1 | J9: 78.8 | K9: 78.8
B10: 11 Chief executives, general managers and legislators | C10: 1 | D10: 45 | E10: 45 | F10: 1 | G10: 49.3 | H10: 49.3 | I10: 1 | J10: 50.9 | K10: 50.9
B11: 12 Farmers and farm managers | C11: - | D11: - | E11: - | F11: - | G11: - | H11: - | I11: - | J11: - | K11: -
B12: 13 Specialist managers | C12: 1 | D12: 47.1 | E12: 47.1 | F12: 1 | G12: 42.9 | H12: 42.9 | I12: 1 | J12: 33.3 | K12: 33.3
B13: 14 Hospitality, retail and service managers | C13: 1 | D13: 88.2 | E13: 88.2 | F13: 1 | G13: 81.9 | H13: 81.9 | I13: 1 | J13: 88.5 | K13: 88.5
B14: Professionals | C14: 1 | D14: 55.4 | E14: 55.4 | F14: 1 | G14: 68.7 | H14: 68.7 | I14: 1 | J14: 58.3 | K14: 58.3
B15: 21 Arts and media professionals | C15: - | D15: - | E15: - | F15: - | G15: - | H15: - | I15: - | J15: - | K15: -
B16: 22 Business, human resource and marketing professionals | C16: 1 | D16: 0 | E16: 0 | F16: - | G16: - | H16: - | I16: 1 | J16: 100 | K16: 100
B17: 23 Design, engineering, science and transport professionals | C17: - | D17: - | E17: - | F17: - | G17: - | H17: - | I17: - | J17: - | K17: -
B18: 24 Education professionals | C18: 1 | D18: 64.3 | E18: 64.3 | F18: 1 | G18: 70.1 | H18: 70.1 | I18: 1 | J18: 64.2 | K18: 64.2
B19: 25 Health professionals | C19: - | D19: - | E19: - | F19: - | G19: - | H19: - | I19: - | J19: - | K19: -
B20: 26 ICT professionals | C20: 1 | D20: 66.7 | E20: 66.7 | F20: 1 | G20: 77.8 | H20: 77.8 | I20: 1 | J20: 71.4 | K20: 71.4
B21: 27 Legal, social and welfare professionals | C21: 1 | D21: 11.1 | E21: 11.1 | F21: 1 | G21: 0 | H21: 0 | I21: 1 | J21: 0 | K21: 0
B22: Technicians and trades workers | C22: 1 | D22: 37.3 | E22: 37.3 | F22: 1 | G22: 37.5 | H22: 37.5 | I22: 1 | J22: 39.2 | K22: 39.2
B23: 31 Engineering, ICT and science technicians | C23: 1 | D23: 70 | E23: 70 | F23: 1 | G23: 47.6 | H23: 47.6 | I23: 1 | J23: 61.6 | K23: 61.6
B24: 32 Automotive and engineering trades workers | C24: 1 | D24: 38 | E24: 38 | F24: 1 | G24: 34.8 | H24: 34.8 | I24: 1 | J24: 35.7 | K24: 35.7
B25: 33 Construction trades workers | C25: 1 | D25: 35.7 | E25: 35.7 | F25: 1 | G25: 40.6 | H25: 40.6 | I25: 1 | J25: 39.3 | K25: 39.3
B26: 34 Electrotechnology and telecommunications trades workers | C26: 1 | D26: 42.1 | E26: 42.1 | F26: 1 | G26: 45.6 | H26: 45.6 | I26: 1 | J26: 42.5 | K26: 42.5
B27: 35 Food trades workers | C27: 1 | D27: 21.7 | E27: 21.7 | F27: 1 | G27: 22.8 | H27: 22.8 | I27: 1 | J27: 26.3 | K27: 26.3
B28: 36 Skilled animal and horticultural workers | C28: 1 | D28: 33.3 | E28: 33.3 | F28: 1 | G28: 39.4 | H28: 39.4 | I28: 1 | J28: 42.7 | K28: 42.7
B29: 39 Other technicians and trades workers | C29: 1 | D29: 35.9 | E29: 35.9 | F29: 1 | G29: 20.5 | H29: 20.5 | I29: 1 | J29: 33.3 | K29: 33.3
B30: 391 Hairdressers | C30: 1 | D30: 33.2 | E30: 33.2 | F30: 1 | G30: 14.3 | H30: 14.3 | I30: 1 | J30: 27.5 | K30: 27.5
B31: 392 Printing trades workers | C31: - | D31: - | E31: - | F31: - | G31: - | H31: - | I31: - | J31: - | K31: -
B32: 393 Textile, clothing and footwear trades workers | C32: - | D32: - | E32: - | F32: - | G32: - | H32: - | I32: - | J32: - | K32: -
B33: 394 Wood trades workers | C33: 1 | D33: 46.5 | E33: 46.5 | F33: 1 | G33: 34 | H33: 34 | I33: 1 | J33: 43.5 | K33: 43.5
B34: 399 Miscellaneous technicians and trades workers | C34: 1 | D34: 44.4 | E34: 44.4 | F34: 1 | G34: 50 | H34: 50 | I34: 1 | J34: 66.7 | K34: 66.7
B35: Community and personal service workers | C35: 1 | D35: 48.3 | E35: 48.3 | F35: 1 | G35: 47.7 | H35: 47.7 | I35: 1 | J35: 44.5 | K35: 44.5
B36: 41 Health and welfare support workers | C36: 1 | D36: 61.3 | E36: 61.3 | F36: 1 | G36: 53.8 | H36: 53.8 | I36: 1 | J36: 35.8 | K36: 35.8
B37: 42 Carers and aides | C37: 1 | D37: 54.7 | E37: 54.7 | F37: 1 | G37: 52.6 | H37: 52.6 | I37: 1 | J37: 46.7 | K37: 46.7
B38: 43 Hospitality workers | C38: 1 | D38: 35.9 | E38: 35.9 | F38: 1 | G38: 34.6 | H38: 34.6 | I38: 1 | J38: 44.2 | K38: 44.2
B39: 44 Protective service workers | C39: 1 | D39: 93.8 | E39: 93.8 | F39: 1 | G39: 94.4 | H39: 94.4 | I39: 1 | J39: 100 | K39: 100
B40: 45 Sports and personal service workers | C40: 1 | D40: 46.9 | E40: 46.9 | F40: 1 | G40: 53.7 | H40: 53.7 | I40: 1 | J40: 24.1 | K40: 24.1
B41: Clerical and administrative workers | C41: 1 | D41: 57.6 | E41: 57.6 | F41: 1 | G41: 68.6 | H41: 68.6 | I41: 1 | J41: 73.1 | K41: 73.1
...

Sheet Explanatory notes
B1: Completion and attrition rates for apprentices and trainees 2023: data tables - to date
B2: Explanatory notes
C3: Back to Index
B5: Data source
C6: An apprentice or trainee is a person who undertakes a contract of training with an employer and a training provider. The estimates used in this publication are derived from the National Apprentice and Trainee Collection no.119 (March 2024 estimates), which is compiled under the Australian Vocational Education and Training Management Information Statistical Standard (AVETMISS) for Apprentice and Trainee Collection Specifications, Release 7.0, October 2015.
B8: Individual and contract completion rates (to date) for trade and non-trade occupations commencing in 2017 to 2019
C9: Figures on apprentice and trainee activity (such as commencements, completions and in-training) are based on the date of effect rather than the date of processing. Due to lags in processing, the most recent figures are estimated (for training activity from the June quarter 2022 to the December quarter 2023). The estimation method involves weighting recently processed numbers, based on average reporting lags. As estimates are revised for up to seven quarters, figures for the last two years may differ from those published in earlier or subsequent reports. Further details on the estimation methodology may be found at <https://www.ncver.edu.au/publications/publications/all-publications/estimation-of-apprentice-and-trainee-statistics>, while further information on the adjustment notes for recent collections may be found in the supporting documents at <https://www.ncver.edu.au/research-and-statistics/collections/apprentices-and-trainees-collection>. Estimates for a commencing cohort will change over time as new estimates are produced using revised data.
B11: Occupation (ANZSCO) group
C12: This publication uses the Australian and New Zealand Standard Classification of Occupations (ANZSCO), 2022 Australian Update, for reporting. Occupation (ANZSCO) group data have only been collected in the AVETMIS Standard from the September quarter 2000 onward. For reporting purposes, historical data dating back to the September quarter 1994 have been back-cast, based on current ANZSCO and training package usage, and Australian Standard Classification of Occupations (ASCO) data previously collected. Further details on this methodology may be found at <https://www.ncver.edu.au/publications/publications/all-publications/anzsco-imputation-in-the-national-apprentice-and-trainee-collection>.
C13: As the vocations approved to be under an apprenticeship or traineeship training contract are not consistent across all jurisdictions, NCVER has adopted a 'trade/non-trade' categorisation for the purpose of the National Apprentice and Trainee Collection with ‘trades’ classified as all occupations listed under ANZSCO major group ‘3 — Technicians and trades workers’ and ‘non-trades’ classified as all other major occupations groups 1—2 and 4—8 (ANZSCO, 2022 Australian Update). ANZSCO has been back-cast by NCVER to 1994 for reporting purposes.
B15: Individual completion rates
