Workbook
Name _Toc212438087: #REF!
Name _Toc212438087: #REF!
Name _Toc323637652: #REF!
Name _Toc323637652: #REF!
Name _Toc323637658: #REF!
Name _Toc323637658: #REF!
Name _Toc323637660: #REF!
Name _Toc323637660: #REF!
Name _Toc323637662: #REF!
Name _Toc323637662: #REF!
Name _Toc323637663: #REF!
Name _Toc323637663: #REF!
Name _Toc323637664: #REF!
Name _Toc323637664: #REF!
Name Index: #REF!
Name Index: #REF!
Name Start10: #REF!
Name Start10: #REF!
Name Start11: #REF!
Name Start11: #REF!
Name Start12: #REF!
Name Start12: #REF!
Name Start13: #REF!
Name Start13: #REF!
Name Start14: #REF!
Name Start14: #REF!
Name Start15: #REF!
Name Start15: #REF!
Name Start16: #REF!
Name Start16: #REF!
Name Start17: #REF!
Name Start17: #REF!
Name Start18: #REF!
Name Start18: #REF!
Name Start19: #REF!
Name Start19: #REF!
Name Start2: #REF!
Name Start2: #REF!
Name Start20: #REF!
Name Start20: #REF!
Name Start4: #REF!
Name Start4: #REF!
Name Start7: #REF!
Name Start7: #REF!
Name Start8: #REF!
Name Start8: #REF!
Name Start9: #REF!
Name Start9: #REF!

Sheet Index
A1: Equity students in VET: participation, achievements and outcomes
A2: Tables
B5: Overview | C5: =Overview!B1 -> Student equity in VET 2020: participation, achievement and outcomes
B6: Table 1 | C6: ='Table 1'!B2 -> Equity group populations and participation in Australia
B7: Table 2 | C7: ='Table 2'!B2 -> VET students by equity group, 2020
B8: Table 3 | C8: ='Table 3'!B2 -> Program enrolments in VET by equity group, 2020
B9: Table 4 | C9: ='Table 4'!B2 -> Subject load pass rates for equity groups, 2020
B10: Table 5 | C10: ='Table 5'!B2 -> Qualification completion rates by equity group, for qualifications commencing in 2016
B11: Table 6 | C11: ='Table 6'!B2 -> Government-funded program enrolments by equity group, 2009–2020
B12: Table 7 | C12: ='Table 7'!B2 -> Post-study status of students who completed a VET qualification in 2020, by equity group (%)
B13: Table 8 | C13: ='Table 8'!B2 -> Satisfaction of students who completed a VET qualification in 2020, by equity group (%)
B14: Table 9 | C14: ='Table 9'!B2 -> Personal benefits of undertaking training, for those who completed a qualification in 2020, by equity group (%)
B15: Table 10 | C15: ='Table 10'!B2 -> Job-related benefits of undertaking training, for those who completed a VET qualification in 2020, by equity group (%)
B16: Table 11 | C16: ='Table 11'!B2 -> Impact of the COVID-19 pandemic on students who completed a VET qualification in 2021, by equity group (%)
B17: Table 12 | C17: ='Table 12'!B2 -> Apprentice and trainee commencements by equity group, 2020
B19: Explanatory notes
B21: Copyright

Sheet Overview
B1: Student equity in VET 2020: participation, achievement and outcomes
B2: Overview
G3: Back to Index
B5: INTRODUCTION
B6: =$B$13 -> MORE INFORMATION
B7: CONTACT DETAILS
B9: INTRODUCTION
B10: This product provides a summary of the participation, achievement and outcomes of students who undertook nationally recognised vocational education and training (VET) delivered by recognised training organisations (RTOs) in Australia during 2020 by equity groups.
D12: << BACK TO TOP OF PAGE>>
B13: MORE INFORMATION
B15: Further information on the data contained in this product is available at:
B17: NCVER's statistics | C17: https://www.ncver.edu.au/about/about-ncver/about-our-data
B19: Total VET students and courses | C19: https://www.ncver.edu.au/research-and-statistics/collections/students-and-courses-collection/total-vet-students-and-courses
B21: VET qualification completion rates | C21: https://www.ncver.edu.au/research-and-statistics/publications/all-publications/vet-qualification-completion-rates-2018
B23: Government-funded students and courses | C23: https://www.ncver.edu.au/research-and-statistics/collections/students-and-courses-collection/government-funded-students-and-courses
B25: Student outcomes | C25: https://www.ncver.edu.au/research-and-statistics/collections/student-outcomes
B27: Apprentices and trainees | C27: https://www.ncver.edu.au/research-and-statistics/collections/apprentices-and-trainees-collection
B29: Census of Population and Housing | C29: https://www.abs.gov.au/census/find-census-data
B31: Disability, Ageing and Carers, Australia | C31: https://www.abs.gov.au/statistics/health/disability/disability-ageing-and-carers-australia-summary-findings/2018
B33: About NCVER | C33: https://www.ncver.edu.au
D37: << BACK TO TOP OF PAGE>>
B38: CONTACT DETAILS
B40: General enquiries about the National Student Outcomes Survey can be made via
B41: email: | C41: vet_req@ncver.edu.au
B42: phone: | C42: (08) 8230 8400
B44: Requests for more detailed statistical information can be made via
B45: email: | C45: vet_req@ncver.edu.au
B46: phone: | C46: (08) 8230 8400
B48: There will be a charge for data requests to cover labour for data extraction. See the fees and charges policy:
B49: https://www.ncver.edu.au/support/support/all-support/data-access-and-charges
D51: << BACK TO TOP OF PAGE>>

Sheet Table 1
B1: Student equity in VET 2020: participation, achievement and outcomes
A2: {=MID(CELL("filename",A1),FIND("]",CELL("filename",A1))+1,255)} -> Table 1 | B2: Equity group populations and participation in Australia | J2: Back to Index
B5: Populations in Australia, 2016 and 2018 | C5: Disability status | D5: Indigenous status | E5: SEIFA (IRSD) | F5: Language other than English spoken at home | G5: Remoteness region | H5: Labour force status | I5: Australian resident population | J5: Australian resident population
C6: With a disability | D6: Indigenous | E6: Most disadvantaged (Quintile 1) | F6: Yes | G6: Remote | H6: Not employed
C7: 2018 | D7: 2016 | E7: 2016 | F7: 2016 | G7: 2016 | H7: 2016 | I7: 2018 | J7: 2016
B8: Australian population | C8: 4367200 | D8: 649168 | E8: 4285543 | F8: 6381475 | G8: 473353 | H8: 787458 | I8: 24667300 | J8: 23401891
B9: Australian working-age population (15-64 years) | C9: 2070600 | D9: 397821 | E9: 2731395 | F9: 4477926 | G9: 318896 | H9: 774421 | I9: 16097100 | J9: 15360517
B10: In the Labour force^ | C10: 1098600 | D10: 222634 | E10: 2874729 | F10: 2531616 | G10: 218988 | H10: 787454 | I10: 12895200 | J10: 11471295
B12: Proportion (%) | C12: With a disability | D12: Indigenous | E12: Quintile 1 - most disadvantaged | F12: Yes | G12: Remote | H12: Not employed
C13: 2018 | D13: 2016 | E13: 2016 | F13: 2016 | G13: 2016 | H13: 2016
B14: Australian population | C14: 17.7 | D14: 2.8 | E14: 18.3 | F14: 27.3 | G14: 2 | H14: 3.4
B15: Australian working-age population (15-64 years) | C15: 12.9 | D15: 2.6 | E15: 17.8 | F15: 29.2 | G15: 2.1 | H15: 5
B16: In the Labour force^ | C16: 8.5 | D16: 1.9 | E16: 25.1 | F16: 22.1 | G16: 1.9 | H16: 6.9
B19: Participation in vocational education and training, 2020 | C19: Disability status | D19: Indigenous status | E19: SEIFA (IRSD) | F19: Language other than English spoken at home | G19: Remoteness region | H19: Labour force status | I19: Total domestic students
C20: With a disability | D20: Indigenous | E20: Quintile 1 - most disadvantaged | F20: Yes | G20: Remote | H20: Not employed
B21: Number | C21: 170480 | D21: 143010 | E21: 660295 | F21: 440450 | G21: 88710 | H21: 702145 | I21: 3715120
B22: Participation in VET
B24: Proportion (%) | C24: With a disability | D24: Indigenous | E24: Quintile 1 - most disadvantaged | F24: Yes | G24: Remote | H24: Not employed
B25: Participation in VET | C25: 4.6 | D25: 3.8 | E25: 17.8 | F25: 11.9 | G25: 2.4 | H25: 18.9
B27: Source:
B28: Census of Population and Housing 2016
B29: Disability, Ageing and Carers, Australia 2018
B30: Total VET students and courses 2020
B32: Notes:
B33: Data are reported for students with an onshore (Australia) delivery location and residence.
B34: Compare equity groups across data collections with caution. The way that equity groups are derived may differ.

Sheet Table 2
B1: Student equity in VET: participation, achievement and outcomes
A2: {=MID(CELL("filename",A1),FIND("]",CELL("filename",A1))+1,255)} -> Table 2 | B2: VET students by equity group, 2020 | O2: Back to Index
C5: Disability status | E5: Indigenous status | G5: SEIFA (IRSD) | I5: Language other than English spoken at home | K5: Remoteness region | M5: Labour force status
B6: Number | C6: With a disability | D6: Without a disability | E6: Indigenous | F6: Non-Indigenous | G6: Most disadvantaged (Quintile 1) | H6: Less disadvantaged (Quintiles 2 to 5) | I6: Yes | J6: No | K6: Remote | L6: Other | M6: Not employed | N6: Employed | O6: TOTAL
B7: Gender
B8: Males | C8: 81305 | D8: 1666355 | E8: 69445 | F8: 1748655 | G8: 335270 | H8: 1413330 | I8: 277885 | J8: 1384670 | K8: 50140 | L8: 1765350 | M8: 344510 | N8: 1270120 | O8: 1978690
B9: Females | C9: 89195 | D9: 1537800 | E9: 73565 | F9: 1631760 | G9: 313680 | H9: 1324565 | I9: 297335 | J9: 1228915 | K9: 37280 | L9: 1654570 | M9: 400485 | N9: 1092725 | O9: 1838440
B10: Not known | C10: 1235 | D10: 46620 | E10: 800 | F10: 27145 | G10: 11345 | H10: 47150 | I10: 3120 | J10: 19535 | K10: 1290 | L10: 57120 | M10: 4370 | N10: 19775 | O10: 104160
B11: Total | C11: 171730 | D11: 3250770 | E11: 143810 | F11: 3407560 | G11: 660295 | H11: 2785045 | I11: 578345 | J11: 2633115 | K11: 88710 | L11: 3477040 | M11: 749360 | N11: 2382620 | O11: 3921285
B12: Age group
B13: 14 years and under | C13: 650 | D13: 10955 | E13: 845 | F13: 12270 | G13: 2155 | H13: 12005 | I13: 665 | J13: 10905 | K13: 510 | L13: 13740 | M13: 7980 | N13: 1940 | O13: 14960
B14: 15 to 19 years | C14: 36180 | D14: 464860 | E14: 34890 | F14: 550930 | G14: 113915 | H14: 472875 | I14: 42260 | J14: 480295 | K14: 11995 | L14: 551480 | M14: 190055 | N14: 226180 | O14: 630065
B15: 20 to 24 years | C15: 27320 | D15: 501185 | E15: 26350 | F15: 507945 | G15: 96100 | H15: 391545 | I15: 95280 | J15: 397900 | K15: 9960 | L15: 524855 | M15: 123275 | N15: 355805 | O15: 581105
B16: 25 to 29 years | C16: 17480 | D16: 462650 | E16: 19370 | F16: 465170 | G16: 85480 | H16: 346305 | I16: 112585 | J16: 330545 | K16: 11165 | L16: 473975 | M16: 93845 | N16: 339460 | O16: 535375
B17: 30 to 39 years | C17: 25570 | D17: 738610 | E17: 27070 | F17: 746125 | G17: 139715 | H17: 597445 | I17: 174505 | J17: 528020 | K17: 20075 | L17: 759075 | M17: 136385 | N17: 571550 | O17: 855970
B18: 40 to 49 years | C18: 25155 | D18: 531245 | E18: 19080 | F18: 548115 | G18: 105785 | H18: 469070 | I18: 86260 | J18: 423875 | K18: 16065 | L18: 561640 | M18: 91760 | N18: 438410 | O18: 631285
B19: 50 to 59 years | C19: 25305 | D19: 378445 | E19: 12100 | F19: 401290 | G19: 81045 | H19: 344635 | I19: 44720 | J19: 324395 | K19: 13100 | L19: 411040 | M19: 64275 | N19: 323230 | O19: 464355
B20: 60 to 64 years | C20: 9305 | D20: 104075 | E20: 2755 | F20: 113900 | G20: 24130 | H20: 96490 | I20: 13500 | J20: 89245 | K20: 3830 | L20: 116475 | M20: 23635 | N20: 85120 | O20: 131690
B21: 65 years and over | C21: 4690 | D21: 54310 | E21: 1235 | F21: 59155 | G21: 11360 | H21: 51555 | I21: 8165 | J21: 45735 | K21: 1935 | L21: 61080 | M21: 17750 | N21: 38375 | O21: 68860
B22: Not known | C22: 85 | D22: 4430 | E22: 115 | F22: 2660 | G22: 610 | H22: 3120 | I22: 405 | J22: 2200 | K22: 80 | L22: 3680 | M22: 400 | N22: 2550 | O22: 7620
B23: Total | C23: 171730 | D23: 3250770 | E23: 143810 | F23: 3407560 | G23: 660295 | H23: 2785045 | I23: 578345 | J23: 2633115 | K23: 88710 | L23: 3477040 | M23: 749360 | N23: 2382620 | O23: 3921285
B24: State/territory of residence
B25: New South Wales | C25: 55945 | D25: 924115 | E25: 50245 | F25: 987920 | G25: 235060 | H25: 858810 | I25: 156635 | J25: 804350 | K25: 9455 | L25: 1079790 | M25: 226280 | N25: 717230 | O25: 1115445
B26: Victoria | C26: 39290 | D26: 639750 | E26: 17080 | F26: 714220 | G26: 121495 | H26: 646220 | I26: 120585 | J26: 514820 | K26: - | L26: 769530 | M26: 158945 | N26: 465170 | O26: 782510
B27: Queensland | C27: 36170 | D27: 721715 | E27: 38635 | F27: 723930 | G27: 169825 | H27: 657210 | I27: 58850 | J27: 631505 | K27: 37285 | L27: 788020 | M27: 147385 | N27: 544990 | O27: 851305
B28: South Australia | C28: 13475 | D28: 203840 | E28: 6750 | F28: 210995 | G28: 57945 | H28: 168885 | I28: 23680 | J28: 162035 | K28: 7120 | L28: 220975 | M28: 52065 | N28: 156215 | O28: 233080
B29: Western Australia | C29: 14160 | D29: 294140 | E29: 14500 | F29: 289135 | G29: 33315 | H29: 297335 | I29: 35085 | J29: 261180 | K29: 19135 | L29: 265450 | M29: 70030 | N29: 203325 | O29: 342255
B30: Tasmania | C30: 4230 | D30: 54725 | E30: 3360 | F30: 56950 | G30: 28130 | H30: 34195 | I30: 3815 | J30: 50140 | K30: 1760 | L30: 61040 | M30: 11045 | N30: 45915 | O30: 63575
B31: Northern Territory | C31: 1475 | D31: 36170 | E31: 7590 | F31: 31665 | G31: 6395 | H31: 33180 | I31: 6665 | J31: 26595 | K31: 13905 | L31: 26115 | M31: 6185 | N31: 30780 | O31: 41175
B32: Australian Capital Territory | C32: 3125 | D32: 49220 | E32: 1370 | F32: 50730 | G32: 110 | H32: 53065 | I32: 8180 | J32: 40220 | K32: - | L32: 55005 | M32: 7690 | N32: 41245 | O32: 55440
B33: Offshore^ | C33: 1250 | D33: 179465 | E33: 805 | F33: 177520 | G33: - | H33: - | I33: 137895 | J33: 36840 | K33: - | L33: 204260 | M33: 47215 | N33: 72590 | O33: 206165
B34: Not known | C34: 2605 | D34: 147625 | E34: 3475 | F34: 164495 | G34: 8015 | H34: 36150 | I34: 26955 | J34: 105430 | K34: 50 | L34: 6855 | M34: 22515 | N34: 105160 | O34: 230325
B35: Total | C35: 171730 | D35: 3250770 | E35: 143810 | F35: 3407560 | G35: 660295 | H35: 2785045 | I35: 578345 | J35: 2633115 | K35: 88710 | L35: 3477040 | M35: 749360 | N35: 2382620 | O35: 3921285
B36: Funding source
B37: Government funding | C37: 92015 | D37: 1064005 | E37: 78035 | F37: 1177015 | G37: 282685 | H37: 966675 | I37: 209510 | J37: 975940 | K37: 30900 | L37: 1183545 | M37: 376555 | N37: 675325 | O37: 1300520
B38: Domestic fee-for-service funding | C38: 93025 | D38: 2341760 | E38: 83200 | F38: 2394150 | G38: 440740 | H38: 2060355 | I38: 270145 | J38: 1922750 | K38: 66620 | L38: 2389000 | M38: 410105 | N38: 1858075 | O38: 2789890
B39: International fee-for-service funding | C39: 715 | D39: 180100 | E39: 65 | F39: 178945 | G39: 5130 | H39: 21960 | I39: 145160 | J39: 21645 | K39: - | L39: 175485 | M39: 43355 | N39: 69320 | O39: 204655
B40: Total | C40: 171730 | D40: 3250770 | E40: 143810 | F40: 3407560 | G40: 660295 | H40: 2785045 | I40: 578345 | J40: 2633115 | K40: 88710 | L40: 3477040 | M40: 749360 | N40: 2382620 | O40: 3921285
B41: Provider type
B42: TAFE institutes | C42: 58110 | D42: 666535 | E42: 45630 | F42: 700100 | G42: 157935 | H42: 580700 | I42: 134260 | J42: 600285 | K42: 18100 | L42: 715490 | M42: 241020 | N42: 426845 | O42: 778010
...

Sheet Table 3
B1: Student equity in VET: participation, achievement and outcomes
A2: {=MID(CELL("filename",A1),FIND("]",CELL("filename",A1))+1,255)} -> Table 3 | B2: Program enrolments in VET by equity group, 2020 | O2: Back to Index
C5: Disability status | E5: Indigenous status | G5: SEIFA (IRSD) | I5: Language other than English spoken at home | K5: Remoteness region | M5: Labour force status
B6: Number | C6: With a disability | D6: Without a disability | E6: Indigenous | F6: Non-Indigenous | G6: Most disadvantaged (Quintile 1) | H6: Less disadvantaged (Quintiles 2 to 5) | I6: Yes | J6: No | K6: Remote | L6: Other | M6: Not employed | N6: Employed | O6: TOTAL
B7: Gender
B8: Males | C8: 79150 | D8: 1049370 | E8: 62605 | F8: 1149730 | G8: 242130 | H8: 914585 | I8: 254895 | J8: 866055 | K8: 32890 | L8: 1271360 | M8: 315840 | N8: 680205 | O8: 1349325
B9: Females | C9: 88085 | D9: 1000435 | E9: 69470 | F9: 1076815 | G9: 242040 | H9: 848885 | I9: 287275 | J9: 788300 | K9: 27655 | L9: 1183465 | M9: 391215 | N9: 570305 | O9: 1249475
B10: Not known | C10: 880 | D10: 8250 | E10: 400 | F10: 6810 | G10: 2240 | H10: 11730 | I10: 1355 | J10: 5555 | K10: 510 | L10: 15365 | M10: 2270 | N10: 4895 | O10: 18040
B11: Total | C11: 168115 | D11: 2058055 | E11: 132475 | F11: 2233355 | G11: 486410 | H11: 1775200 | I11: 543525 | J11: 1659910 | K11: 61055 | L11: 2470190 | M11: 709325 | N11: 1255405 | O11: 2616845
B12: Age group
B13: 14 years and under | C13: 275 | D13: 3735 | E13: 430 | F13: 4910 | G13: 955 | H13: 4560 | I13: 340 | J13: 3960 | K13: 310 | L13: 5215 | M13: 2615 | N13: 565 | O13: 5680
B14: 15 to 19 years | C14: 48000 | D14: 481330 | E14: 45725 | F14: 606480 | G14: 139970 | H14: 526065 | I14: 49010 | J14: 536845 | K14: 18305 | L14: 662215 | M14: 195735 | N14: 203245 | O14: 740605
B15: 20 to 24 years | C15: 29010 | D15: 369295 | E15: 24755 | F15: 377075 | G15: 77585 | H15: 273165 | I15: 99495 | J15: 285855 | K15: 7940 | L15: 421915 | M15: 113370 | N15: 245115 | O15: 433330
B16: 25 to 29 years | C16: 17295 | D16: 301015 | E16: 16910 | F16: 303130 | G16: 58105 | H16: 201045 | I16: 111660 | J16: 194065 | K16: 6880 | L16: 340940 | M16: 87670 | N16: 192405 | O16: 352330
B17: 30 to 39 years | C17: 24465 | D17: 438400 | E17: 22090 | F17: 444495 | G17: 92025 | H17: 337105 | I17: 162410 | J17: 281420 | K17: 11800 | L17: 493090 | M17: 136155 | N17: 289260 | O17: 512670
B18: 40 to 49 years | C18: 22150 | D18: 259840 | E18: 13555 | F18: 272295 | G18: 62995 | H18: 235315 | I18: 70470 | J18: 194880 | K18: 8270 | L18: 299525 | M18: 88930 | N18: 184200 | O18: 312900
B19: 50 to 59 years | C19: 18950 | D19: 150370 | E19: 7185 | F19: 164640 | G19: 40280 | H19: 144600 | I19: 33030 | J19: 123475 | K19: 5695 | L19: 180850 | M19: 55975 | N19: 109470 | O19: 189635
B20: 60 to 64 years | C20: 5965 | D20: 35675 | E20: 1295 | F20: 40910 | G20: 10335 | H20: 35320 | I20: 10475 | J20: 27155 | K20: 1295 | L20: 44610 | M20: 18470 | N20: 22025 | O20: 46645
B21: 65 years and over | C21: 1980 | D21: 17465 | E21: 520 | F21: 19015 | G21: 4015 | H21: 16915 | I21: 6585 | J21: 11795 | K21: 540 | L21: 20485 | M21: 10315 | N21: 8525 | O21: 21310
B22: Not known | C22: 20 | D22: 920 | E22: 15 | F22: 410 | G22: 140 | H22: 1115 | I22: 55 | J22: 470 | K22: 15 | L22: 1350 | M22: 80 | N22: 590 | O22: 1740
B23: Total | C23: 168115 | D23: 2058055 | E23: 132475 | F23: 2233355 | G23: 486410 | H23: 1775200 | I23: 543525 | J23: 1659910 | K23: 61055 | L23: 2470190 | M23: 709325 | N23: 1255405 | O23: 2616845
B24: State/territory of residence
B25: New South Wales | C25: 53650 | D25: 505505 | E25: 45775 | F25: 570140 | G25: 161145 | H25: 488210 | I25: 117865 | J25: 470215 | K25: 5230 | L25: 644185 | M25: 185645 | N25: 358810 | O25: 649415
B26: Victoria | C26: 39510 | D26: 419030 | E26: 13705 | F26: 517095 | G26: 97500 | H26: 451435 | I26: 109395 | J26: 339685 | K26: - | L26: 548950 | M26: 167570 | N26: 276455 | O26: 548950
B27: Queensland | C27: 38265 | D27: 501770 | E27: 39920 | F27: 509915 | G27: 144050 | H27: 471240 | I27: 51940 | J27: 471620 | K27: 27260 | L27: 588065 | M27: 151725 | N27: 297375 | O27: 615320
B28: South Australia | C28: 10665 | D28: 107650 | E28: 5605 | F28: 113640 | G28: 35360 | H28: 87655 | I28: 19530 | J28: 88755 | K28: 4120 | L28: 118930 | M28: 45095 | N28: 66405 | O28: 123050
B29: Western Australia | C29: 15820 | D29: 192325 | E29: 14545 | F29: 183270 | G29: 25950 | H29: 200585 | I29: 29580 | J29: 168760 | K29: 14505 | L29: 212555 | M29: 73340 | N29: 96880 | O29: 227060
B30: Tasmania | C30: 3830 | D30: 31510 | E30: 2600 | F30: 33540 | G30: 17715 | H30: 20085 | I30: 3185 | J30: 28105 | K30: 1055 | L30: 36745 | M30: 9535 | N30: 23425 | O30: 37800
B31: Northern Territory | C31: 1275 | D31: 21250 | E31: 6330 | F31: 16805 | G31: 4610 | H31: 19095 | I31: 5510 | J31: 16150 | K31: 8890 | L31: 14835 | M31: 5305 | N31: 16545 | O31: 23725
B32: Australian Capital Territory | C32: 2985 | D32: 33425 | E32: 1455 | F32: 33940 | G32: 80 | H32: 36895 | I32: 7025 | J32: 26820 | K32: - | L32: 38010 | M32: 6635 | N32: 24105 | O32: 38010
B33: Offshore | C33: 940 | D33: 227020 | E33: 100 | F33: 225905 | G33: - | H33: - | I33: 194185 | J33: 29125 | K33: - | L33: 267910 | M33: 56815 | N33: 81530 | O33: 267910
B34: Not known | C34: 1175 | D34: 18565 | E34: 2435 | F34: 29115 | G34: - | H34: - | I34: 5310 | J34: 20675 | K34: - | L34: - | M34: 7655 | N34: 13870 | O34: 85600
B35: Total | C35: 168115 | D35: 2058055 | E35: 132475 | F35: 2233355 | G35: 486410 | H35: 1775200 | I35: 543525 | J35: 1659910 | K35: 61055 | L35: 2470190 | M35: 709325 | N35: 1255405 | O35: 2616845
B36: Level of education
B37: Diploma or higher | C37: 17050 | D37: 353825 | E37: 12285 | F37: 357360 | G37: 42525 | H37: 218780 | I37: 154160 | J37: 208380 | K37: 4770 | L37: 400245 | M37: 89260 | N37: 219045 | O37: 409305
B38: Certificate IV | C38: 24760 | D38: 396780 | E38: 16025 | F38: 401365 | G38: 68330 | H38: 315110 | I38: 111740 | J38: 300150 | K38: 7715 | L38: 439590 | M38: 100185 | N38: 283810 | O38: 455490
B39: Certificate III | C39: 70960 | D39: 759260 | E39: 51245 | F39: 831460 | G39: 198465 | H39: 669390 | I39: 150060 | J39: 635105 | K39: 21435 | L39: 900935 | M39: 274740 | N39: 501110 | O39: 942040
B40: Certificate II | C40: 31825 | D40: 299950 | E40: 34385 | F40: 379990 | G40: 102065 | H40: 323355 | I40: 57465 | J40: 314130 | K40: 15800 | L40: 414755 | M40: 151025 | N40: 110685 | O40: 475120
B41: Certificate I | C41: 15160 | D41: 78050 | E41: 11270 | F41: 89930 | G41: 30705 | H41: 76785 | I41: 30110 | J41: 68585 | K41: 3890 | L41: 104190 | M41: 54645 | N41: 20015 | O41: 112200
B42: Statement of attainment | C42: 8365 | D42: 170190 | E42: 7265 | F42: 173255 | G42: 44325 | H42: 171780 | I42: 39990 | J42: 133560 | K42: 7450 | L42: 210475 | M42: 39470 | N42: 120735 | O42: 222685
...

Sheet Table 4
B1: Student equity in VET: participation, achievement and outcomes
A2: {=MID(CELL("filename",A1),FIND("]",CELL("filename",A1))+1,255)} -> Table 4 | B2: Subject load pass rates for equity groups, 2020 | O2: Back to Index
C5: Disability status | E5: Indigenous status | G5: SEIFA (IRSD) | I5: Language other than English spoken at home | K5: Remoteness region | M5: Labour force status
C6: With a disability | D6: Without a disability | E6: Indigenous | F6: Non-Indigenous | G6: Most disadvantaged (Quintile 1) | H6: Less disadvantaged (Quintiles 2 to 5) | I6: Yes | J6: No | K6: Remote | L6: Other | M6: Not employed | N6: Employed | O6: Total (Australia)
B7: Subject load pass rate (%) | C7: 72.7 | D7: 81.5 | E7: 73.7 | F7: 81.1 | G7: 78.9 | H7: 81.8 | I7: 79.1 | J7: 82.7 | K7: 83.9 | L7: 81.2 | M7: 76.2 | N7: 82.4 | O7: 79.4
B10: Source: VET qualification completion rates 2019
B12: Notes:
B13: The subject load pass rate is weighted to account for the fact that subjects are of different lengths. The calculation is based on the annual hours (or full-year training equivalent — FYTE) for each assessable module or unit of competency. A subject load pass rate is the ratio of hours studied by students who passed their subject(s) to the total hours committed to by all students who passed, failed or withdrew from the corresponding subject(s).
B14: The non-equity groups and Australia figures include students reported with unknown status.

Sheet Table 5
B1: Student equity in VET: participation, achievement and outcomes
A2: {=MID(CELL("filename",A1),FIND("]",CELL("filename",A1))+1,255)} -> Table 5 | B2: Qualification completion rates by equity group, for qualifications commencing in 2016 | O2: Back to Index
C5: Disability status | E5: Indigenous status | G5: SEIFA (IRSD) | I5: Language other than English spoken at home | K5: Remoteness region | M5: Labour force status
B6: Completion rate (%) | C6: With a disability | D6: Without a disability | E6: Indigenous | F6: Non-Indigenous | G6: Most disadvantaged (Quintile 1) | H6: Less disadvantaged (Quintiles 2 to 5) | I6: Yes | J6: No | K6: Remote | L6: Other | M6: Not employed | N6: Employed | O6: Total (Australia)
B7: Level of education
B8: Certificate I | C8: 36.6 | D8: 28.8 | E8: 29.2 | F8: 29.8 | G8: 29.5 | H8: 29.9 | I8: 19 | J8: 37.9 | K8: 25.4 | L8: 30 | M8: 36.3 | N8: 28.4 | O8: 29.8
B9: Certificate II | C9: 39.6 | D9: 40.6 | E9: 34.6 | F9: 41 | G9: 39.3 | H9: 40.9 | I9: 39.6 | J9: 40.9 | K9: 33.8 | L9: 40.8 | M9: 45.4 | N9: 39.4 | O9: 40.5
B10: Certificate III | C10: 42 | D10: 45.1 | E10: 36.5 | F10: 45.4 | G10: 43.1 | H10: 45.4 | I10: 43.4 | J10: 45.7 | K10: 33.7 | L10: 45.3 | M10: 47.9 | N10: 44.1 | O10: 44.9
B11: Certificate IV | C11: 41.4 | D11: 48.4 | E11: 40.5 | F11: 48.3 | G11: 44.8 | H11: 48.7 | I11: 48 | J11: 48.2 | K11: 41.2 | L11: 48.3 | M11: 43.8 | N11: 48.9 | O11: 48.1
B12: Diploma or higher | C12: 34.3 | D12: 44.9 | E12: 24.2 | F12: 45.3 | G12: 32 | H12: 47.1 | I12: 53.4 | J12: 39.8 | K12: 33 | L12: 44.6 | M12: 31 | N12: 48 | O12: 44.4
B13: Total | C13: 39.4 | D13: 43.4 | E13: 33.5 | F13: 43.7 | G13: 39.2 | H13: 44.2 | I13: 42.6 | J13: 43.4 | K13: 33.4 | L13: 43.4 | M13: 42.7 | N13: 43.2 | O13: 43.1
B14: Apprentice/trainee status
B15: Apprentices and trainees | C15: 58.1 | D15: 59.6 | E15: 54.6 | F15: 59.8 | G15: 58.1 | H15: 59.9 | I15: 50.3 | J15: 61.3 | K15: 60.4 | L15: 59.5 | M15: 57.4 | N15: 59.6 | O15: 59.5
B16: Not an apprentice or trainee | C16: 38.3 | D16: 41.9 | E16: 31.7 | F16: 42.3 | G16: 37.5 | H16: 42.8 | I16: 42.3 | J16: 41.3 | K16: 31.2 | L16: 42 | M16: 42.5 | N16: 41.4 | O16: 41.7
B17: Total | C17: 39.4 | D17: 43.4 | E17: 33.5 | F17: 43.7 | G17: 39.2 | H17: 44.2 | I17: 42.6 | J17: 43.4 | K17: 33.4 | L17: 43.4 | M17: 42.7 | N17: 43.2 | O17: 43.1
B18: Funding source
B19: Commonwealth/state funding | C19: 42.6 | D19: 47.1 | E19: 36 | F19: 47.6 | G19: 44.6 | H19: 47.4 | I19: 40 | J19: 49.3 | K19: 38.8 | L19: 47 | M19: 47.8 | N19: 46.4 | O19: 46.7
B20: Fee-for-service - domestic | C20: 31.7 | D20: 36 | E20: 27.8 | F20: 36.1 | G20: 31.1 | H20: 37 | I20: 36.6 | J20: 35.5 | K20: 25.7 | L20: 36.1 | M20: 32 | N20: 36.6 | O20: 35.8
B21: Fee-for-service - international | C21: 67.5 | D21: 62.5 | E21: 9.1 | F21: 62.6 | H21: 62.6 | I21: 62.7 | J21: 61.8 | L21: 62.6 | M21: 65.4 | N21: 62.2 | O21: 62.6
B22: Total | C22: 39.4 | D22: 43.4 | E22: 33.5 | F22: 43.7 | G22: 39.2 | H22: 44.2 | I22: 42.6 | J22: 43.4 | K22: 33.4 | L22: 43.4 | M22: 42.7 | N22: 43.2 | O22: 43.1
B23: Field of education
B24: Natural and physical sciences | C24: 54.2 | D24: 58.4 | E24: 62 | F24: 58 | G24: 57.5 | H24: 58.3 | I24: 64.6 | J24: 54.8 | K24: 38.1 | L24: 58.5 | M24: 60.4 | N24: 57.3 | O24: 58.1
B25: Information technology | C25: 36 | D25: 41.6 | E25: 28.6 | F25: 41.7 | G25: 35.5 | H25: 42.7 | I25: 41.5 | J25: 40.9 | K25: 35.2 | L25: 41.2 | M25: 33.1 | N25: 43.1 | O25: 41
B26: Engineering and related technologies | C26: 37.9 | D26: 36.3 | E26: 37.9 | F26: 36.3 | G26: 36.6 | H26: 36.4 | I26: 34.8 | J26: 36.9 | K26: 31.2 | L26: 36.7 | M26: 48.5 | N26: 34.4 | O26: 36.4
B27: Architecture and building | C27: 34.2 | D27: 32.5 | E27: 26.8 | F27: 32.9 | G27: 31 | H27: 33 | I27: 19.2 | J27: 39.8 | K27: 17.7 | L27: 33.1 | M27: 35.4 | N27: 32.3 | O27: 32.6
B28: Agriculture, environmental and related studies | C28: 34.4 | D28: 35.3 | E28: 28.8 | F28: 36 | G28: 33.6 | H28: 35.7 | I28: 40.7 | J28: 33.9 | K28: 30.1 | L28: 35.8 | M28: 35.5 | N28: 35.1 | O28: 35.2
B29: Health | C29: 43.6 | D29: 49.7 | E29: 39.5 | F29: 49.8 | G29: 45.2 | H29: 50.2 | I29: 52 | J29: 48.5 | K29: 40.6 | L29: 49.6 | M29: 47.5 | N29: 49.7 | O29: 49.3
B30: Education | C30: 44.9 | D30: 54.1 | E30: 35.3 | F30: 54.3 | G30: 47 | H30: 55.4 | I30: 53.4 | J30: 53.9 | K30: 39.7 | L30: 54.2 | M30: 44.7 | N30: 55.8 | O30: 53.7
B31: Management and commerce | C31: 40.5 | D31: 47.2 | E31: 32.6 | F31: 47.5 | G31: 39.9 | H31: 48.3 | I31: 49.8 | J31: 45.1 | K31: 36.9 | L31: 47 | M31: 37.4 | N31: 49.2 | O31: 46.8
B32: Society and culture | C32: 42.2 | D32: 51.9 | E32: 37.7 | F32: 52.1 | G32: 47.5 | H32: 52.3 | I32: 54.1 | J32: 49.7 | K32: 40 | L32: 51.5 | M32: 51.1 | N32: 51.3 | O32: 51.2
B33: Creative arts | C33: 46.3 | D33: 48.2 | E33: 30.7 | F33: 49.2 | G33: 40.9 | H33: 49.3 | I33: 38.4 | J33: 51.6 | K33: 32.1 | L33: 48.4 | M33: 52.1 | N33: 47.2 | O33: 48.1
B34: Food, hospitality and personal services | C34: 37.2 | D34: 41 | E34: 30 | F34: 41.4 | G34: 37 | H34: 41.7 | I34: 40.4 | J34: 41 | K34: 41.2 | L34: 40.7 | M34: 37.2 | N34: 41.5 | O34: 40.7
B35: Mixed field programmes | C35: 36.6 | D35: 33.8 | E35: 31.1 | F35: 34.4 | G35: 32.1 | H35: 35 | I35: 31.4 | J35: 37.4 | K35: 29.9 | L35: 34.3 | M35: 35.4 | N35: 33.8 | O35: 34.2
B36: Total | C36: 39.4 | D36: 43.4 | E36: 33.5 | F36: 43.7 | G36: 39.2 | H36: 44.2 | I36: 42.6 | J36: 43.4 | K36: 33.4 | L36: 43.4 | M36: 42.7 | N36: 43.2 | O36: 43.1
B37: Provider type
B38: TAFE institutes | C38: 36.5 | D38: 41.2 | E38: 30.1 | F38: 41.6 | G38: 36.8 | H38: 42 | I38: 38.5 | J38: 41.7 | K38: 27.6 | L38: 41.3 | M38: 41.5 | N38: 40.6 | O38: 40.8
B39: Universities | C39: 42.9 | D39: 46.1 | E39: 28.4 | F39: 47.3 | G39: 38.8 | H39: 47.7 | I39: 39 | J39: 49.4 | K39: 36.1 | L39: 46.7 | M39: 44.7 | N39: 46.2 | O39: 45.9
B40: Schools | C40: 58.5 | D40: 46.4 | E40: 40 | F40: 47.3 | G40: 46.5 | H40: 46.9 | I40: 37.9 | J40: 48.6 | K40: 49.1 | L40: 46.7 | M40: 55.1 | N40: 46.6 | O40: 46.8
B41: Community education providers | C41: 41.8 | D41: 43.5 | E41: 35.8 | F41: 43.9 | G41: 39.5 | H41: 44.6 | I41: 39.5 | J41: 45 | K41: 31 | L41: 43.6 | M41: 48.6 | N41: 40.5 | O41: 43.2
B42: Enterprise providers | C42: 35.7 | D42: 53.7 | E42: 35.8 | F42: 54.1 | G42: 51.9 | H42: 53.2 | I42: 50.7 | J42: 54.4 | K42: 39.6 | L42: 53.4 | M42: 57.2 | N42: 52.9 | O42: 53
...

Sheet Table 6
B1: Student equity in VET: participation, achievement and outcomes
A2: {=MID(CELL("filename",A1),FIND("]",CELL("filename",A1))+1,255)} -> Table 6 | B2: Government-funded program enrolments by equity group, 2009–2020 | O2: Back to Index
B5: Number | C5: 2009 | D5: 2010 | E5: 2011 | F5: 2012 | G5: 2013 | H5: 2014 | I5: 2015 | J5: 2016 | K5: 2017 | L5: 2018 | M5: 2019 | N5: 2020 | O5: Difference since 2009
B6: With a disability | C6: 116715 | D6: 129855 | E6: 144560 | F6: 155540 | G6: 149800 | H6: 140855 | I6: 118110 | J6: 135565 | K6: 130830 | L6: 126930 | M6: 138325 | N6: 128240 | O6: 11525
B7: Indigenous | C7: 91510 | D7: 101335 | E7: 105705 | F7: 105715 | G7: 98570 | H7: 95485 | I7: 88080 | J7: 100930 | K7: 103260 | L7: 101805 | M7: 108400 | N7: 98860 | O7: 7350
B8: Most disadvantaged (SEIFA IRSD Quintile 1) | C8: 237965 | D8: 257640 | E8: 430855 | F8: 454620 | G8: 438505 | H8: 393095 | I8: 330815 | J8: 349460 | K8: 339695 | L8: 318520 | M8: 329810 | N8: 316850 | O8: 78890
B9: Language other than English spoken at home | C9: 224700 | D9: 243390 | E9: 273450 | F9: 310880 | G9: 330000 | H9: 316105 | I9: 261830 | J9: 266045 | K9: 255890 | L9: 239180 | M9: 261855 | N9: 265390 | O9: 40690
B10: Remote | C10: 67565 | D10: 71445 | E10: 65840 | F10: 64175 | G10: 58395 | H10: 51850 | I10: 48665 | J10: 47985 | K10: 46670 | L10: 42570 | M10: 41795 | N10: 39810 | O10: -27755
B11: Not employed | C11: 440540 | D11: 512460 | E11: 568225 | F11: 612675 | G11: 629165 | H11: 589175 | I11: 488335 | J11: 517730 | K11: 508890 | L11: 464905 | M11: 495650 | N11: 491685 | O11: 51145
B12: Total | C12: 1482440 | D12: 1615905 | E12: 1775645 | F12: 1886300 | G12: 1812710 | H12: 1626405 | I12: 1371155 | J12: 1451940 | K12: 1387500 | L12: 1305945 | M12: 1372145 | N12: 1408080 | O12: -74360
B15: Proportion (%) | C15: 2009 | D15: 2010 | E15: 2011 | F15: 2012 | G15: 2013 | H15: 2014 | I15: 2015 | J15: 2016 | K15: 2017 | L15: 2018 | M15: 2019 | N15: 2020 | O15: Percentage change since 2009
B16: With a disability | C16: 7.9 | D16: 8 | E16: 8.1 | F16: 8.2 | G16: 8.3 | H16: 8.7 | I16: 8.6 | J16: 9.3 | K16: 9.4 | L16: 9.7 | M16: 10.1 | N16: 9.1 | O16: 9.9
B17: Indigenous | C17: 6.2 | D17: 6.3 | E17: 6 | F17: 5.6 | G17: 5.4 | H17: 5.9 | I17: 6.4 | J17: 7 | K17: 7.4 | L17: 7.8 | M17: 7.9 | N17: 7 | O17: 8
B18: Most disadvantaged (SEIFA IRSD Quintile 1) | C18: 16.1 | D18: 15.9 | E18: 24.3 | F18: 24.1 | G18: 24.2 | H18: 24.2 | I18: 24.1 | J18: 24.1 | K18: 24.5 | L18: 24.4 | M18: 24 | N18: 22.5 | O18: 33.2
B19: Language other than English spoken at home | C19: 15.2 | D19: 15.1 | E19: 15.4 | F19: 16.5 | G19: 18.2 | H19: 19.4 | I19: 19.1 | J19: 18.3 | K19: 18.4 | L19: 18.3 | M19: 19.1 | N19: 18.8 | O19: 18.1
B20: Remote | C20: 4.6 | D20: 4.4 | E20: 3.7 | F20: 3.4 | G20: 3.2 | H20: 3.2 | I20: 3.5 | J20: 3.3 | K20: 3.4 | L20: 3.3 | M20: 3 | N20: 2.8 | O20: -41.1
B21: Not employed | C21: 29.7 | D21: 31.7 | E21: 32 | F21: 32.5 | G21: 34.7 | H21: 36.2 | I21: 35.6 | J21: 35.7 | K21: 36.7 | L21: 35.6 | M21: 36.1 | N21: 34.9 | O21: 11.6
B22: Total | C22: 100 | D22: 100 | E22: 100 | F22: 100 | G22: 100 | H22: 100 | I22: 100 | J22: 100 | K22: 100 | L22: 100 | M22: 100 | N22: 100 | O22: -5
B24: Source: Government-funded students and courses 2020

Sheet Table 7
B1: Student equity in VET: participation, achievement and outcomes
A2: {=MID(CELL("filename",A1),FIND("]",CELL("filename",A1))+1,255)} -> Table 7 | B2: Post-study status of students who completed a VET qualification in 2020, by equity group (%) | O2: Back to Index
C6: Disability status | E6: Indigenous status | G6: SEIFA (IRSD) | I6: Language other than English spoken at home | K6: Remoteness region | M6: Labour force status before training
C7: With a disability | D7: Without a disability | E7: Indigenous | F7: Non-Indigenous | G7: Most disadvantaged (Quintile 1) | H7: Less disadvantaged (Quintiles 2 to 5) | I7: Yes | J7: No | K7: Remote | L7: Other | M7: Not employed | N7: Employed | O7: Total (Australia)
B8: Post study outcomes
B9: Had an improved employment status after training | C9: 43.4 | D9: 62.4 | E9: 59.6 | F9: 60.7 | G9: 56 | H9: 61.7 | I9: 54.8 | J9: 62 | K9: 66.1 | L9: 60.5 | M9: 43.3 | N9: 70.5 | O9: 60.6
B10: Enrolled in further study after training | C10: 40.7 | D10: 35 | E10: 35.3 | F10: 35.6 | G10: 34.1 | H10: 35.8 | I10: 34.7 | J10: 35.8 | K10: 33.4 | L10: 35.5 | M10: 37.6 | N10: 34.5 | O10: 35.5
B12: 95% margin of error
B13: Had an improved employment status after training | C13: 0.8 | D13: 0.2 | E13: 1.1 | F13: 0.2 | G13: 0.5 | H13: 0.3 | I13: 0.5 | J13: 0.3 | K13: 1.6 | L13: 0.2 | M13: 0.4 | N13: 0.3 | O13: 0.2
B14: Enrolled in further study after training | C14: 0.7 | D14: 0.2 | E14: 1 | F14: 0.2 | G14: 0.5 | H14: 0.2 | I14: 0.5 | J14: 0.2 | K14: 1.6 | L14: 0.2 | M14: 0.4 | N14: 0.3 | O14: 0.2
B18: Source: National Student Outcomes Survey 2021

Sheet Table 8
B1: Student equity in VET: participation, achievement and outcomes
A2: {=MID(CELL("filename",A1),FIND("]",CELL("filename",A1))+1,255)} -> Table 8 | B2: Satisfaction of students who completed a VET qualification in 2020, by equity group (%) | O2: Back to Index
C6: Disability status | E6: Indigenous status | G6: SEIFA (IRSD) | I6: Language other than English spoken at home | K6: Remoteness region | M6: Labour force status before training
C7: With a disability | D7: Without a disability | E7: Indigenous | F7: Non-Indigenous | G7: Most disadvantaged (Quintile 1) | H7: Less disadvantaged (Quintiles 2 to 5) | I7: Yes | J7: No | K7: Remote | L7: Other | M7: Not employed | N7: Employed | O7: Total (Australia)
B8: Satisfaction
B9: Achieved main reason for doing the training | C9: 78.4 | D9: 85.6 | E9: 85.9 | F9: 84.9 | G9: 83.9 | H9: 85.2 | I9: 84.2 | J9: 85.2 | K9: 88.8 | L9: 84.9 | M9: 80.2 | N9: 88.1 | O9: 85
B10: Satisfied with support services | C10: 79.2 | D10: 79.1 | E10: 82.6 | F10: 79 | G10: 81.9 | H10: 78.5 | I10: 82.7 | J10: 78.3 | K10: 80.6 | L10: 79.1 | M10: 78.6 | N10: 79.4 | O10: 79.2
B11: Satisfied with the overall quality of the training | C11: 87.4 | D11: 89.2 | E11: 91.3 | F11: 89 | G11: 90.4 | H11: 88.7 | I11: 90.5 | J11: 88.7 | K11: 90.7 | L11: 89 | M11: 89.2 | N11: 89.3 | O11: 89.1
B12: Recommend training provider | C12: 83.9 | D12: 84.7 | E12: 87.4 | F12: 84.5 | G12: 86.6 | H12: 84.2 | I12: 88.6 | J12: 83.7 | K12: 86.8 | L12: 84.6 | M12: 84.5 | N12: 85.2 | O12: 84.7
B14: 95% margin of error
B15: Achieved main reason for doing the training | C15: 0.6 | D15: 0.2 | E15: 0.8 | F15: 0.2 | G15: 0.4 | H15: 0.2 | I15: 0.4 | J15: 0.2 | K15: 1 | L15: 0.2 | M15: 0.3 | N15: 0.2 | O15: 0.2
B16: Satisfied with support services | C16: 0.6 | D16: 0.2 | E16: 0.9 | F16: 0.2 | G16: 0.4 | H16: 0.2 | I16: 0.4 | J16: 0.2 | K16: 1.4 | L16: 0.2 | M16: 0.3 | N16: 0.3 | O16: 0.2
B17: Satisfied with the overall quality of the training | C17: 0.5 | D17: 0.1 | E17: 0.6 | F17: 0.1 | G17: 0.3 | H17: 0.2 | I17: 0.3 | J17: 0.2 | K17: 1 | L17: 0.1 | M17: 0.2 | N17: 0.2 | O17: 0.1
B18: Recommend training provider | C18: 0.5 | D18: 0.2 | E18: 0.7 | F18: 0.2 | G18: 0.3 | H18: 0.2 | I18: 0.3 | J18: 0.2 | K18: 1.1 | L18: 0.2 | M18: 0.3 | N18: 0.2 | O18: 0.2
B20: Source: National Student Outcomes Survey 2021

Sheet Table 9
B1: Student equity in VET: participation, achievement and outcomes
A2: {=MID(CELL("filename",A1),FIND("]",CELL("filename",A1))+1,255)} -> Table 9 | B2: Personal benefits of undertaking training, for those who completed a qualification in 2020, by equity group (%) | O2: Back to Index
C5: Disability status | E5: Indigenous status | G5: SEIFA (IRSD) | I5: Language other than English spoken at home | K5: Remoteness region | M5: Labour force status before training
C6: With a disability | D6: Without a disability | E6: Indigenous | F6: Non-Indigenous | G6: Most disadvantaged (Quintile 1) | H6: Less disadvantaged (Quintiles 2 to 5) | I6: Yes | J6: No | K6: Remote | L6: Other | M6: Not employed | N6: Employed | O6: Total (Australia)
B7: Personal benefits
B8: Received at least one personal benefit
B9: Got into further study | C9: 30 | D9: 26.1 | E9: 28 | F9: 26.4 | G9: 26.7 | H9: 26.4 | I9: 31.6 | J9: 25.3 | K9: 21.8 | L9: 26.6 | M9: 28.3 | N9: 25.4 | O9: 26.4
B10: Advance my skills generally | C10: 63.8 | D10: 67.2 | E10: 66.1 | F10: 66.9 | G10: 65.2 | H10: 67.3 | I10: 61 | J10: 68.3 | K10: 68.7 | L10: 66.8 | M10: 63.6 | N10: 68.7 | O10: 66.8
B11: Gained confidence | C11: 52 | D11: 48.7 | E11: 52.3 | F11: 48.8 | G11: 49.5 | H11: 48.9 | I11: 48.6 | J11: 49.1 | K11: 46.4 | L11: 49 | M11: 51.1 | N11: 47.8 | O11: 48.9
B12: Satisfaction of achievement | C12: 55.8 | D12: 52.4 | E12: 53.2 | F12: 52.6 | G12: 51.5 | H12: 52.9 | I12: 45.1 | J12: 54.4 | K12: 50.3 | L12: 52.7 | M12: 52.2 | N12: 53 | O12: 52.6
B13: Improved communication skills | C13: 40.6 | D13: 38.5 | E13: 43.1 | F13: 38.5 | G13: 40.5 | H13: 38.2 | I13: 42.7 | J13: 37.7 | K13: 35 | L13: 38.7 | M13: 43.9 | N13: 35.8 | O13: 38.6
B14: Made new friends | C14: 35.9 | D14: 30.9 | E14: 35.3 | F14: 31.2 | G14: 32 | H14: 31.3 | I14: 31.8 | J14: 31.3 | K14: 24.9 | L14: 31.5 | M14: 36.1 | N14: 28.7 | O14: 31.4
B15: Seen as a role model for others in the community | C15: 16.1 | D15: 15.6 | E15: 23.1 | F15: 15.3 | G15: 16.7 | H15: 15.4 | I15: 15.5 | J15: 15.6 | K15: 18.7 | L15: 15.5 | M15: 14.8 | N15: 16.1 | O15: 15.6
B16: Other | C16: 0.9 | D16: 0.5 | E16: 0.6 | F16: 0.5 | G16: 0.5 | H16: 0.5 | I16: 0.5 | J16: 0.5 | K16: 0.8 | L16: 0.5 | M16: 0.5 | N16: 0.5 | O16: 0.5
B17: None | C17: 8.2 | D17: 7.8 | E17: 7.8 | F17: 7.9 | G17: 7.8 | H17: 7.9 | I17: 5.5 | J17: 8.4 | K17: 8.3 | L17: 7.9 | M17: 8.3 | N17: 7.6 | O17: 7.9
B20: 95% margin of error
B21: Received at least one personal benefit
B22: Got into further study | C22: 0.7 | D22: 0.2 | E22: 1.1 | F22: 0.2 | G22: 0.5 | H22: 0.2 | I22: 0.5 | J22: 0.2 | K22: 1.5 | L22: 0.2 | M22: 0.4 | N22: 0.3 | O22: 0.2
B23: Advance my skills generally | C23: 0.8 | D23: 0.2 | E23: 1.1 | F23: 0.2 | G23: 0.5 | H23: 0.3 | I23: 0.5 | J23: 0.2 | K23: 1.6 | L23: 0.2 | M23: 0.4 | N23: 0.3 | O23: 0.2
B24: Gained confidence | C24: 0.8 | D24: 0.3 | E24: 1.2 | F24: 0.2 | G24: 0.5 | H24: 0.3 | I24: 0.5 | J24: 0.3 | K24: 1.8 | L24: 0.2 | M24: 0.4 | N24: 0.3 | O24: 0.2
B25: Satisfaction of achievement | C25: 0.8 | D25: 0.3 | E25: 1.2 | F25: 0.2 | G25: 0.5 | H25: 0.3 | I25: 0.5 | J25: 0.3 | K25: 1.8 | L25: 0.2 | M25: 0.4 | N25: 0.3 | O25: 0.2
B26: Improved communication skills | C26: 0.8 | D26: 0.2 | E26: 1.2 | F26: 0.2 | G26: 0.5 | H26: 0.3 | I26: 0.5 | J26: 0.3 | K26: 1.7 | L26: 0.2 | M26: 0.4 | N26: 0.3 | O26: 0.2
B27: Made new friends | C27: 0.8 | D27: 0.2 | E27: 1.1 | F27: 0.2 | G27: 0.5 | H27: 0.2 | I27: 0.5 | J27: 0.2 | K27: 1.6 | L27: 0.2 | M27: 0.4 | N27: 0.3 | O27: 0.2
B28: Seen as a role model for others in the community | C28: 0.6 | D28: 0.2 | E28: 1 | F28: 0.2 | G28: 0.4 | H28: 0.2 | I28: 0.4 | J28: 0.2 | K28: 1.4 | L28: 0.2 | M28: 0.3 | N28: 0.2 | O28: 0.2
B29: Other | C29: 0.1 | D29: 0 | E29: 0.2 | F29: 0 | G29: 0.1 | H29: 0 | I29: 0.1 | J29: 0 | K29: 0.3 | L29: 0 | M29: 0.1 | N29: 0 | O29: 0
B30: None | C30: 0.4 | D30: 0.1 | E30: 0.6 | F30: 0.1 | G30: 0.3 | H30: 0.1 | I30: 0.2 | J30: 0.1 | K30: 1 | L30: 0.1 | M30: 0.2 | N30: 0.2 | O30: 0.1
B32: Source: National Student Outcomes Survey 2021
B33: Notes:
B34: Totals sum to more than 100% as respondents could choose more than one category.

Sheet Table 10
B1: Student equity in VET: participation, achievement and outcomes
A2: {=MID(CELL("filename",A1),FIND("]",CELL("filename",A1))+1,255)} -> Table 10 | B2: Job-related benefits of undertaking training, for those who completed a VET qualification in 2020, by equity group (%) | O2: Back to Index
C5: Disability status | E5: Indigenous status | G5: SEIFA (IRSD) | I5: Language other than English spoken at home | K5: Remoteness region | M5: Labour force status before training
C6: With a disability | D6: Without a disability | E6: Indigenous | F6: Non-Indigenous | G6: Most disadvantaged (Quintile 1) | H6: Less disadvantaged (Quintiles 2 to 5) | I6: Yes | J6: No | K6: Remote | L6: Other | M6: Not employed | N6: Employed | O6: Total (Australia)
B7: Job-related benefits
B8: Received at least one job-related benefit | C8: 77.7 | D8: 80 | E8: 84.3 | F8: 79.7 | G8: 81.3 | H8: 79.5 | I8: 83 | J8: 79.2 | K8: 81.3 | L8: 79.8 | M8: 78.3 | N8: 80.3 | O8: 79.8
B9: Got a job | C9: 36.5 | D9: 28.8 | E9: 33.7 | F9: 29.1 | G9: 32.4 | H9: 28.7 | I9: 35.8 | J9: 28 | K9: 21.6 | L9: 29.5 | M9: 48.3 | N9: 23.6 | O9: 29.3
B10: Got a new job/change in job | C10: 20.6 | D10: 18.9 | E10: 20 | F10: 19 | G10: 18.6 | H10: 19.1 | I10: 19.7 | J10: 18.9 | K10: 16.4 | L10: 19.1 | M10: 16 | N10: 19.9 | O10: 19
B11: Was able to set up/expand my own business | C11: 4.9 | D11: 5.3 | E11: 4.4 | F11: 5.3 | G11: 4.6 | H11: 5.4 | I11: 6.1 | J11: 5.1 | K11: 4.1 | L11: 5.3 | M11: 3.5 | N11: 5.8 | O11: 5.3
B12: A promotion (or increased status at work) | C12: 8.4 | D12: 11.2 | E12: 13.6 | F12: 10.9 | G12: 11 | H12: 11 | I12: 8.9 | J12: 11.4 | K12: 11.7 | L12: 11 | M12: 5.5 | N12: 12.6 | O12: 11
B13: Gain extra skills for my job | C13: 41.6 | D13: 44.9 | E13: 49.9 | F13: 44.5 | G13: 44.8 | H13: 44.6 | I13: 39.5 | J13: 45.7 | K13: 49.7 | L13: 44.5 | M13: 37.7 | N13: 46.9 | O13: 44.6
B14: An increase in earnings | C14: 13.9 | D14: 14.9 | E14: 18.3 | F14: 14.7 | G14: 15.6 | H14: 14.6 | I14: 13.8 | J14: 15 | K14: 14.2 | L14: 14.8 | M14: 11.6 | N14: 15.8 | O14: 14.8
B15: Continue/keep present job | C15: 0.3 | D15: 0.5 | E15: 0.3 | F15: 0.5 | G15: 0.4 | H15: 0.5 | I15: 0.2 | J15: 0.5 | K15: 0.4 | L15: 0.5 | M15: 0.2 | N15: 0.6 | O15: 0.5
B16: Other | C16: 1.1 | D16: 0.8 | E16: 0.9 | F16: 0.8 | G16: 0.8 | H16: 0.8 | I16: 0.8 | J16: 0.8 | K16: 0.3 | L16: 0.8 | M16: 0.7 | N16: 0.9 | O16: 0.8
B17: None | C17: 22.3 | D17: 20 | E17: 15.7 | F17: 20.3 | G17: 18.7 | H17: 20.5 | I17: 17 | J17: 20.8 | K17: 18.7 | L17: 20.2 | M17: 21.7 | N17: 19.7 | O17: 20.2
B19: 95% margin of error
B20: Received at least one job-related benefit | C20: 0.9 | D20: 0.2 | E20: 1 | F20: 0.2 | G20: 0.5 | H20: 0.2 | I20: 0.5 | J20: 0.2 | K20: 1.5 | L20: 0.2 | M20: 0.5 | N20: 0.3 | O20: 0.2
B21: Got a job | C21: 1 | D21: 0.3 | E21: 1.3 | F21: 0.3 | G21: 0.6 | H21: 0.3 | I21: 0.6 | J21: 0.3 | K21: 1.6 | L21: 0.3 | M21: 0.6 | N21: 0.3 | O21: 0.3
B22: Got a new job/change in job | C22: 0.9 | D22: 0.2 | E22: 1.1 | F22: 0.2 | G22: 0.5 | H22: 0.2 | I22: 0.5 | J22: 0.2 | K22: 1.5 | L22: 0.2 | M22: 0.4 | N22: 0.2 | O22: 0.2
B23: Was able to set up/expand my own business | C23: 0.4 | D23: 0.1 | E23: 0.6 | F23: 0.1 | G23: 0.3 | H23: 0.1 | I23: 0.3 | J23: 0.1 | K23: 0.7 | L23: 0.1 | M23: 0.2 | N23: 0.1 | O23: 0.1
B24: A promotion (or increased status at work) | C24: 0.6 | D24: 0.2 | E24: 0.9 | F24: 0.2 | G24: 0.4 | H24: 0.2 | I24: 0.4 | J24: 0.2 | K24: 1.3 | L24: 0.2 | M24: 0.3 | N24: 0.2 | O24: 0.2
B25: Gain extra skills for my job | C25: 1.1 | D25: 0.3 | E25: 1.4 | F25: 0.3 | G25: 0.7 | H25: 0.3 | I25: 0.7 | J25: 0.3 | K25: 1.9 | L25: 0.3 | M25: 0.6 | N25: 0.3 | O25: 0.3
B26: An increase in earnings | C26: 0.7 | D26: 0.2 | E26: 1.1 | F26: 0.2 | G26: 0.5 | H26: 0.2 | I26: 0.5 | J26: 0.2 | K26: 1.3 | L26: 0.2 | M26: 0.4 | N26: 0.2 | O26: 0.2
B27: Continue/keep present job | C27: 0.1 | D27: 0 | E27: 0.1 | F27: 0 | G27: 0.1 | H27: 0 | I27: 0.1 | J27: 0 | K27: 0.2 | L27: 0 | M27: 0 | N27: 0 | O27: 0
B28: Other | C28: 0.2 | D28: 0 | E28: 0.3 | F28: 0 | G28: 0.1 | H28: 0.1 | I28: 0.1 | J28: 0.1 | K28: 0.2 | L28: 0 | M28: 0.1 | N28: 0.1 | O28: 0
B29: None | C29: 0.9 | D29: 0.2 | E29: 1 | F29: 0.2 | G29: 0.5 | H29: 0.2 | I29: 0.5 | J29: 0.2 | K29: 1.5 | L29: 0.2 | M29: 0.5 | N29: 0.3 | O29: 0.2
B31: Source: National Student Outcomes Survey 2021
B32: Notes:
B33: Totals sum to more than 100% as respondents could choose more than one category.

Sheet Table 11
B1: Student equity in VET: participation, achievement and outcomes
A2: {=MID(CELL("filename",A1),FIND("]",CELL("filename",A1))+1,255)} -> Table 11 | B2: Impact of the COVID-19 pandemic on students who completed a VET qualification in 2021, by equity group (%) | O2: Back to Index
C6: Disability status | E6: Indigenous status | G6: SEIFA (IRSD) | I6: Language other than English spoken at home | K6: Remoteness region | M6: Labour force status before training
C7: With a disability | D7: Without a disability | E7: Indigenous | F7: Non-Indigenous | G7: Most disadvantaged (Quintile 1) | H7: Less disadvantaged (Quintiles 2 to 5) | I7: Yes | J7: No | K7: Remote | L7: Other | M7: Not employed | N7: Employed | O7: Total (Australia)
B8: Effects of the COVID-19 pandemic
B9: Transition into online learning
B10: Training shifted to online learning due to the COVID-19 pandemic | C10: 56.6 | D10: 51.6 | E10: 46.3 | F10: 52.4 | G10: 50.7 | H10: 52.3 | I10: 58.4 | J10: 50.8 | K10: 39.9 | L10: 52.3 | M10: 55.7 | N10: 49.8 | O10: 52.1
B11: Of those whose training shifted to online: received support from training provider to transition to online learning | C11: 83.1 | D11: 86.4 | E11: 86 | F11: 86.1 | G11: 86.8 | H11: 85.9 | I11: 87.9 | J11: 85.6 | K11: 87.8 | L11: 86 | M11: 86.2 | N11: 85.8 | O11: 86.1
B12: Of these: faced at least one challenge with online learning | C12: 57.8 | D12: 45 | E12: 48.5 | F12: 46.3 | G12: 46.8 | H12: 46.2 | I12: 45.7 | J12: 46.6 | K12: 41.9 | L12: 46.4 | M12: 49.6 | N12: 44.1 | O12: 46.3
B13: Challenges faced with online learning
B14: Of those who faced challenges when learning shifted to online:
B15: Lack of face-to-face interaction with trainers/teachers/instructors | C15: 58.6 | D15: 60.7 | E15: 51 | F15: 60.8 | G15: 56.4 | H15: 61.3 | I15: 53.8 | J15: 62.2 | K15: 48.9 | L15: 60.5 | M15: 61.4 | N15: 61 | O15: 60.3
B16: Lack of face-to-face interaction with peers | C16: 47.4 | D16: 49.7 | E16: 36.9 | F16: 49.9 | G16: 44.5 | H16: 50.3 | I16: 44.1 | J16: 50.8 | K16: 37.2 | L16: 49.4 | M16: 50.4 | N16: 50 | O16: 49.3
B17: Subject matter not suitable | C17: 27.7 | D17: 27.3 | E17: 24.1 | F17: 27.5 | G17: 26.1 | H17: 27.7 | I17: 26.7 | J17: 27.5 | K17: 25.6 | L17: 27.5 | M17: 26 | N17: 27.9 | O17: 27.4
B19: 95% margin of error
B20: Transition into online learning
B21: Training shifted to online learning due to the COVID-19 pandemic | C21: 0.7 | D21: 0.2 | E21: 1.1 | F21: 0.2 | G21: 0.5 | H21: 0.3 | I21: 0.5 | J21: 0.3 | K21: 1.6 | L21: 0.2 | M21: 0.4 | N21: 0.3 | O21: 0.2
B22: Of those whose training shifted to online: received support from training provider to transition to online learning | C22: 0.7 | D22: 0.2 | E22: 1.1 | F22: 0.2 | G22: 0.5 | H22: 0.2 | I22: 0.4 | J22: 0.2 | K22: 1.7 | L22: 0.2 | M22: 0.4 | N22: 0.3 | O22: 0.2
B23: Of these: faced at least one challenge with online learning | C23: 1 | D23: 0.3 | E23: 1.6 | F23: 0.3 | G23: 0.7 | H23: 0.3 | I23: 0.6 | J23: 0.4 | K23: 2.6 | L23: 0.3 | M23: 0.5 | N23: 0.4 | O23: 0.3
B24: Challenges faced with online learning
B25: Of those who faced challenges when learning shifted to online:
B26: Lack of face-to-face interaction with trainers/teachers/instructors | C26: 1.3 | D26: 0.5 | E26: 2.3 | F26: 0.5 | G26: 1 | H26: 0.5 | I26: 1 | J26: 0.5 | K26: 4.1 | L26: 0.5 | M26: 0.7 | N26: 0.6 | O26: 0.4
B27: Lack of face-to-face interaction with peers | C27: 1.3 | D27: 0.5 | E27: 2.2 | F27: 0.5 | G27: 1 | H27: 0.5 | I27: 0.9 | J27: 0.5 | K27: 4 | L27: 0.5 | M27: 0.7 | N27: 0.6 | O27: 0.5
B28: Subject matter not suitable | C28: 1.2 | D28: 0.4 | E28: 2 | F28: 0.4 | G28: 0.9 | H28: 0.5 | I28: 0.9 | J28: 0.5 | K28: 3.6 | L28: 0.4 | M28: 0.6 | N28: 0.6 | O28: 0.4
B31: Source: National Student Outcomes Survey 2021

Sheet Table 12
B1: Student equity in VET: participation, achievement and outcomes
A2: {=MID(CELL("filename",B1),FIND("]",CELL("filename",B1))+1,255)} -> Table 12 | B2: Apprentice and trainee commencements by equity group, 2020 | M2: Back to Index
C5: Disability status | E5: Indigenous status | G5: SEIFA (IRSD) | I5: Language other than English spoken at home | K5: Remoteness region
B6: Number | C6: With a disability | D6: Without a disability | E6: Indigenous | F6: Non-Indigenous | G6: Most disadvantaged (Quintile 1) | H6: Less disadvantaged (Quintiles 2 to 5) | I6: Yes | J6: No | K6: Remote | L6: Other | M6: TOTAL
B7: Gender
B8: Male | C8: 3540 | D8: 100250 | E8: 6345 | F8: 95485 | G8: 20250 | H8: 87315 | I8: 10545 | J8: 93275 | K8: 3085 | L8: 104530 | M8: 107890
B9: Female | C9: 1770 | D9: 57860 | E9: 4525 | F9: 53900 | G9: 12275 | H9: 49420 | I9: 6740 | J9: 52700 | K9: 1895 | L9: 59855 | M9: 61900
B10: Other | C10: - | D10: 5 | E10: - | F10: 5 | G10: 0 | H10: 0 | I10: - | J10: 5 | K10: - | L10: 5 | M10: 5
B11: TOTAL | C11: 5310 | D11: 158115 | E11: 10870 | F11: 149385 | G11: 32530 | H11: 136740 | I11: 17285 | J11: 145980 | K11: 4980 | L11: 164390 | M11: 169795
B12: State of training
B13: New South Wales | C13: 1415 | D13: 47630 | E13: 3560 | F13: 45435 | G13: 11245 | H13: 40555 | I13: 6750 | J13: 43510 | K13: 435 | L13: 51410 | M13: 51935
B14: Victoria | C14: 1175 | D14: 32710 | E14: 760 | F14: 30795 | G14: 5120 | H14: 28665 | I14: 3745 | J14: 28270 | K14: 10 | L14: 33770 | M14: 33885
B15: Queensland | C15: 1710 | D15: 38050 | E15: 3310 | F15: 35745 | G15: 8615 | H15: 32020 | I15: 2835 | J15: 37470 | K15: 1755 | L15: 38885 | M15: 40765
B16: Western Australia | C16: 460 | D16: 17845 | E16: 1540 | F16: 16935 | G16: 1915 | H16: 17990 | I16: 2015 | J16: 16500 | K16: 1420 | L16: 18485 | M16: 19935
B17: South Australia | C17: 270 | D17: 10295 | E17: 430 | F17: 10010 | G17: 2720 | H17: 8485 | I17: 1010 | J17: 9385 | K17: 445 | L17: 10760 | M17: 11220
B18: Australian Capital Territory | C18: 175 | D18: 4445 | E18: 235 | F18: 4235 | G18: 25 | H18: 4530 | I18: 475 | J18: 3945 | K18: 0 | L18: 4610 | M18: 4620
B19: Northern Territory | C19: 5 | D19: 1995 | E19: 645 | F19: 1325 | G19: 465 | H19: 1475 | I19: 310 | J19: 1685 | K19: 740 | L19: 1205 | M19: 2000
B20: Tasmania | C20: 105 | D20: 5150 | E20: 385 | F20: 4905 | G20: 2425 | H20: 3010 | I20: 140 | J20: 5215 | K20: 170 | L20: 5265 | M20: 5435
B21: TOTAL | C21: 5310 | D21: 158115 | E21: 10870 | F21: 149385 | G21: 32530 | H21: 136740 | I21: 17285 | J21: 145980 | K21: 4980 | L21: 164390 | M21: 169795
B22: Trade status
B23: Trade occupation | C23: 2120 | D23: 72400 | E23: 3855 | F23: 69115 | G23: 13405 | H23: 63300 | I23: 5910 | J23: 69020 | K23: 2115 | L23: 74615 | M23: 76870
B24: Non-trade occupation | C24: 3185 | D24: 85720 | E24: 7015 | F24: 80270 | G24: 19125 | H24: 73435 | I24: 11370 | J24: 76955 | K24: 2870 | L24: 89770 | M24: 92925
B25: TOTAL | C25: 5310 | D25: 158115 | E25: 10870 | F25: 149385 | G25: 32530 | H25: 136735 | I25: 17285 | J25: 145975 | K25: 4980 | L25: 164385 | M25: 169790
B26: School-based status
B27: School-based | C27: 1145 | D27: 13930 | E27: 1550 | F27: 13100 | G27: 2925 | H27: 12550 | I27: 930 | J27: 14125 | K27: 650 | L27: 14825 | M27: 15505
B28: Not school-based | C28: 4160 | D28: 144185 | E28: 9320 | F28: 136285 | G28: 29605 | H28: 124190 | I28: 16355 | J28: 131855 | K28: 4330 | L28: 149560 | M28: 154290
B29: TOTAL | C29: 5310 | D29: 158115 | E29: 10870 | F29: 149385 | G29: 32530 | H29: 136740 | I29: 17285 | J29: 145980 | K29: 4980 | L29: 164390 | M29: 169795
B30: Employer type
B31: Private sector | C31: 4680 | D31: 140800 | E31: 8315 | F31: 134335 | G31: 29045 | H31: 121675 | I31: 15865 | J31: 129380 | K31: 4180 | L31: 146630 | M31: 151195
B32: Group training scheme | C32: 455 | D32: 10150 | E32: 1485 | F32: 8870 | G32: 2085 | H32: 8920 | I32: 630 | J32: 10105 | K32: 365 | L32: 10645 | M32: 11025
B33: Government | C33: 175 | D33: 7160 | E33: 1065 | F33: 6175 | G33: 1395 | H33: 6140 | I33: 790 | J33: 6490 | K33: 435 | L33: 7110 | M33: 7565
B34: TOTAL | C34: 5310 | D34: 158115 | E34: 10870 | F34: 149385 | G34: 32525 | H34: 136735 | I34: 17280 | J34: 145975 | K34: 4980 | L34: 164385 | M34: 169790
B35: Occupation
B36: 1 - Managers | C36: 55 | D36: 4145 | E36: 195 | F36: 3885 | G36: 535 | H36: 3790 | I36: 605 | J36: 3345 | K36: 105 | L36: 4230 | M36: 4365
B37: 2 - Professionals | C37: 20 | D37: 1145 | E37: 90 | F37: 1035 | G37: 230 | H37: 965 | I37: 150 | J37: 1035 | K37: 60 | L37: 1135 | M37: 1200
B38: 3 - Technicians and Trades Workers | C38: 2120 | D38: 72400 | E38: 3855 | F38: 69115 | G38: 13405 | H38: 63300 | I38: 5910 | J38: 69020 | K38: 2115 | L38: 74615 | M38: 76870
B39: 4 - Community and Personal Service Workers | C39: 910 | D39: 25505 | E39: 1985 | F39: 23940 | G39: 5425 | H39: 21785 | I39: 3100 | J39: 23030 | K39: 720 | L39: 26525 | M39: 27300
B40: 5 - Clerical and Administrative Workers | C40: 570 | D40: 22410 | E40: 1835 | F40: 20810 | G40: 4455 | H40: 19510 | I40: 2935 | J40: 19910 | K40: 570 | L40: 23410 | M40: 24070
B41: 6 - Sales Workers | C41: 355 | D41: 12615 | E41: 575 | F41: 12030 | G41: 2590 | H41: 10770 | I41: 1395 | J41: 11450 | K41: 320 | L41: 13050 | M41: 13400
B42: 7 - Machinery Operators and Drivers | C42: 565 | D42: 9650 | E42: 1055 | F42: 9100 | G42: 2690 | H42: 8315 | I42: 1250 | J42: 9100 | K42: 505 | L42: 10505 | M42: 11040
...

Sheet Explanatory notes
B1: Student equity in VET: participation, achievement and outcomes
A2: Explanatory notes | D2: Back to index
A4: Scope
A5: Data are reported for training activity with an onshore (Australia) delivery location.
A7: Data treatment
A8: Note that the percentages presented in this product are reported to one decimal place. Other numbers have been rounded after aggregation to the nearest five. Rounding can lead to situations where individual numbers might not add to the rounded totals.
A9: - | B9: A dash represents a true zero figure, with no activity reported in these categories.
A11: General
A12: Refer to table footnotes for more detailed information about data included in the tables.
A14: Terms
B15: Apprentice/trainee status | C15: Indicates whether a student is undertaking some off-the-job training under an apprenticeship/traineeship training contract.
B16: Commonwealth and state funding | C16: Expenditure by the Commonwealth or state/territory governments for the delivery of vocational education and training.
B17: Completion rates | C17: Completion rates are observed actual completion rates for qualifications that commenced in 2015, and are based on the assumption that enough time has passed for all students who were going to complete their qualification to have done so.
B18: Disability (including impairment or longterm condition) | C18: Whether the student self-identifies as having a disability, impairment or long-term condition.
B19: Domestic fee-for service funding | C19: Revenue provided by a student whose citizenship status is Australian, New Zealand or permanent resident for the purpose of undertaking education and training.
B20: Funding source | C20: The predominant source of the funding for a student. For students with subject enrolments in more than one funding category, a major funding source is assigned in hierarchical order (Commonwealth and state funding, Domestic full-fee paying and International full-fee paying).
B21: Gender | C21: Whether the student identifies as male, female or other. Not known gender includes not specified responses as well as individuals who may have mixed or non-binary sexual characteristics; identify as gender diverse; or identify as neither male nor female.
B22: Government funding | C22: Relates to Commonwealth and state/territory funded activity delivered by registered training providers (RTOs).
B23: Indigenous status | C23: Whether a student self-identifies as being of Aboriginal or Torres Strait Islander descent.
B24: Labour force status | C24: Describes a student’s employment status.
B25: Nationally recognised programs | C25: Includes training package qualifications, accredited qualifications, training package skill sets and accredited courses that are listed on the National Training Register (training.gov.au).
B26: Not employed | C26: Students that indicated they were either unemployed or not in the labour force.
... B33: Student remoteness (ARIA+) region | C33: The degree of remoteness of a location in terms of the ease or difficulty people face in accessing services in non-metropolitan Australia. "Remote" includes Very remote and remote. "Other" includes Regional areas, major cities and overseas.
A35: Not known information
A36: There are high numbers of ‘not known’ responses for some student characteristics explored in this release. The table below provides an indication of the proportion of students with ‘not known’ data in the 2019 total VET activity dataset as a whole. Caution should be taken when using data with a large number of 'not known' responses.
A37: Data are reported as 'not known' for the following reasons:
B38: - information was not collected
B39: - a student has not responded to a question on the enrolment form
B40: - invalid information was supplied
B41: - where duplicate student records have conflicting demographic information; for example, where the same student is reported as both Indigenous and non-Indigenous.
B43: Table 1 Proportion of students with 'not known' data, 2020 (%)
C44: 2020
B45: Disability (including impairment or long-term condition) | C45: 12.7
B46: Indigenous status | C46: 9.5
B47: SEIFA (IRSD) | C47: 12.5
B48: Language other than English spoken at home | C48: 18.1
B49: Student remoteness region | C49: 5
B50: Labour force status | C50: 20.3
B51: Source: Total VET students and courses 2020
A53: Unknown data have not been reported in any tables, whereas the total includes all student, enrolments or contracts, including those with an unknown status. Hence, some figures in the tables may not sum to the total.

Sheet Copyright
B2: © Commonwealth of Australia, 2022 | M2: Back to index
B7: With the exception of the Commonwealth Coat of Arms, the Department's logo, any material protected by a trade mark and where otherwise noted all material presented in this document is provided under a Creative Commons Attribution 3.0 Australia <http://creativecommons.org/licenses/by/3.0/au> licence.
B9: The details of the relevant licence conditions are available on the Creative Commons website (accessible using the links provided) as is the full legal code for the CC BY 3.0 AU licence <http://creativecommons.org/licenses/by/3.0/legalcode>.
B11: The Creative Commons licence conditions do not apply to all logos, graphic design, artwork and photographs. Requests and enquiries concerning other reproduction and rights should be directed to NCVER.
B13: This document should be attributed as NCVER 2022, Student equity in VET 2020: participation, achievements and outcomes: data tables, NCVER, Adelaide.
